Workbook
Name MATRIZ: #REF!
Name MATRIZ1: #REF!
Name SegmentaciónDeDatos_Estructura: #N/A
Name SegmentaciónDeDatos_Grupo_de_trabajo: #N/A
Name SegmentaciónDeDatos_Parte_Interesada: #N/A
Name SegmentaciónDeDatos_Tipo_de_Parte_Interesada: #N/A

Sheet Principal
A1: #VALUE! | C1: MATRIZ DE PARTES INTERESADAS | O1: Código: MTZ-1-03-001
O2: Fecha de Edición: 1/Octubre/2024
O3: Versión: 12
E5: Dependencias | F5: # P. Interesadas
E6: Oficina Jurídica
E7: Oficina Jurídica | F7: 7
E8: Total general | F8: 7
E45: Dependencias | F45: Influencia/Poder | G45: Interés
E46: Despachos Judiciales | F46: 5 | G46: 5 | L46: =_xlfn.CONCAT(E46,", ",AVERAGE(M46,N46)) -> Despachos Judiciales, 5 | M46: =F46 -> 5 | N46: =G46 -> 5
E47: Entes de Control | F47: 4 | G47: 4 | L47: =_xlfn.CONCAT(E47,", ",AVERAGE(M47,N47)) -> Entes de Control, 4 | M47: =F47 -> 4 | N47: =G47 -> 4
E48: Entidades Privadas | F48: 1.5 | G48: 3 | L48: =_xlfn.CONCAT(E48,", ",AVERAGE(M48,N48)) -> Entidades Privadas, 2,25 | M48: =F48 -> 1.5 | N48: =G48 -> 3
E49: Entidades Publicas | F49: 4 | G49: 3 | L49: =_xlfn.CONCAT(E49,", ",AVERAGE(M49,N49)) -> Entidades Publicas, 3,5 | M49: =F49 -> 4 | N49: =G49 -> 3
E50: Personas Naturales | F50: 1 | G50: 4 | L50: =_xlfn.CONCAT(E50,", ",AVERAGE(M50,N50)) -> Personas Naturales, 2,5 | M50: =F50 -> 1 | N50: =G50 -> 4
L51: =_xlfn.CONCAT(E51,", ",AVERAGE(M51,N51)) -> , 0 | M51: =F51 -> 0 | N51: =G51 -> 0
L52: =_xlfn.CONCAT(E52,", ",AVERAGE(M52,N52)) -> , 0 | M52: =F52 -> 0 | N52: =G52 -> 0
L53: =_xlfn.CONCAT(E53,", ",AVERAGE(M53,N53)) -> , 0 | M53: =F53 -> 0 | N53: =G53 -> 0
L54: =_xlfn.CONCAT(E54,", ",AVERAGE(M54,N54)) -> , 0 | M54: =F54 -> 0 | N54: =G54 -> 0
L55: =_xlfn.CONCAT(E55,", ",AVERAGE(M55,N55)) -> , 0 | M55: =F55 -> 0 | N55: =G55 -> 0
L56: =_xlfn.CONCAT(E56,", ",AVERAGE(M56,N56)) -> , 0 | M56: =F56 -> 0 | N56: =G56 -> 0
L57: =_xlfn.CONCAT(E57,", ",AVERAGE(M57,N57)) -> , 0 | M57: =F57 -> 0 | N57: =G57 -> 0
L58: =_xlfn.CONCAT(E58,", ",AVERAGE(M58,N58)) -> , 0 | M58: =F58 -> 0 | N58: =G58 -> 0
L59: =_xlfn.CONCAT(E59,", ",AVERAGE(M59,N59)) -> , 0 | M59: =F59 -> 0 | N59: =G59 -> 0
L60: =_xlfn.CONCAT(E60,", ",AVERAGE(M60,N60)) -> , 0 | M60: =F60 -> 0 | N60: =G60 -> 0
L61: =_xlfn.CONCAT(E61,", ",AVERAGE(M61,N61)) -> , 0 | M61: =F61 -> 0 | N61: =G61 -> 0
L62: =_xlfn.CONCAT(E62,", ",AVERAGE(M62,N62)) -> , 0 | M62: =F62 -> 0 | N62: =G62 -> 0
... L110: =_xlfn.CONCAT(E110,", ",AVERAGE(M110,N110)) -> , 0 | M110: =F110 -> 0 | N110: =G110 -> 0

Sheet Caracterización de Partes Inter
A1: Parte Interesada | B1: Tipo de Parte Interesada | C1: Influencia/Poder | D1: Interés | E1: Criticidad
A2: Agencia Jurídica del Estado | B2: Externa | C2: 4 | D2: 4 | E2: 4
A3: Agentes de carga internacional | B3: Externa | C3: 1 | D3: 4 | E3: 2.5
A4: Archivo General de la Nación | B4: Externa | C4: 4.5 | D4: 4 | E4: 4.3
A5: Asociación Nacional de Empresarios de Colombia-ANDI | B5: Externa | C5: 3 | D5: 4 | E5: 3.5
A6: Asociaciones de recicladores | B6: Externa | C6: 1 | D6: 3 | E6: 2
A7: Autoridades Aeronáuticas | B7: Externa | C7: 5 | D7: 2 | E7: 3.5
A8: Banco de la Republica | B8: Externa | C8: 3 | D8: 3 | E8: 3
A9: Brampton Consulting ZFB | B9: Externa | C9: 3.5 | D9: 3 | E9: 3.3
A10: Cámara de Comercio de Bogotá | B10: Externa | C10: 3 | D10: 1 | E10: 2
A11: Cámara de Representantes | B11: Externa | C11: 2.5 | D11: 1 | E11: 1.8
A12: Ciudadanía (Pagina Web | Redes Sociales) | B12: Externa | C12: 1 | D12: 2 | E12: 1.5
A13: Clientes | B13: Externa | C13: 4 | D13: 4 | E13: 4
... A67: Presidencia | B67: Interna | C67: 5 | D67: 5 | E67: 5

Sheet Análisis de Partes Interesadas
A1: Dependencia | B1: Parte Interesada | C1: Influencia/Poder | D1: Interés | E1: Interacciones
A2: Oficina de Planeación | B2: Grupo Social y Empresarial de la Defensa | C2: 5 | D2: 4 | E2: 1
A3: Presidencia - Comunicaciones | B3: Grupo Social y Empresarial de la Defensa | C3: 5 | D3: 4 | E3: 1
A4: Presidencia - Comunicaciones | B4: Todas las áreas | E4: 1
A5: Oficina de Planeación | B5: Todas las áreas | E5: 7
A6: Oficina Jurídica | B6: Todas las áreas | E6: 1
A7: Oficina de Planeación - Grupo Gestión Proyectos e Innovación | B7: Todas las áreas | E7: 2
A8: Presidencia - Comunicaciones | B8: Ciudadanía (Pagina Web | Redes Sociales) | C8: 1 | D8: 2 | E8: 1
A9: Presidencia - Comunicaciones | B9: Medios de comunicación | C9: 1.5 | D9: 2 | E9: 1
A10: Oficina de Planeación - Grupo Gestión Proyectos e Innovación | B10: Asociación Nacional de Empresarios de Colombia-ANDI | C10: 3 | D10: 4 | E10: 1
A11: Oficina de Planeación | B11: Unidad de Información y Análisis Financiero UIAF | C11: 3 | D11: 3 | E11: 1
A12: Oficina de Planeación | B12: Junta Directiva | C12: 5 | D12: 5 | E12: 1
A13: Oficina de Planeación | B13: Procuraduría General de la Nación | C13: 3 | D13: 5 | E13: 1
A14: Oficina de Planeación | B14: Entes Certificadores | C14: 2.5 | D14: 1 | E14: 1
A15: Oficina de Planeación - Grupo Gestión Proyectos e Innovación | B15: Cámara de Comercio de Bogotá | C15: 3 | D15: 1 | E15: 1
A16: Oficina de Planeación | B16: Ministerio de Hacienda y Crédito Público | C16: 3 | D16: 4 | E16: 1
A17: Oficina de Planeación | B17: Departamento Nacional de Planeación - DNP | C17: 3 | D17: 3 | E17: 1
A18: Oficina de Planeación - Grupo Gestión Proyectos e Innovación | B18: Departamento Nacional de Planeación - DNP | C18: 3 | D18: 3 | E18: 1
A19: Oficina de Planeación | B19: Departamento Administrativo de la Función Pública - DAFP | C19: 3.25 | D19: 2 | E19: 1
A20: Revisar | B20: Oficina de Planeación - Grupo Gestión Proyectos e Innovación | E20: 1
A21: Oficina Jurídica | B21: Despachos Judiciales | C21: 5 | D21: 5 | E21: 1
A22: Revisar | B22: Presidencia | C22: 5 | D22: 5 | E22: 1
A23: Oficina de Planeación - Grupo Gestión Proyectos e Innovación | B23: Presidencia | C23: 5 | D23: 5 | E23: 1
A24: Revisar | B24: Vicepresidencia Operativa - Departamento de Entrenamiento | E24: 1
A25: Oficina de Planeación | B25: Vicepresidencia Operativa - Departamento de Entrenamiento | E25: 1
A26: Oficina de Planeación - Grupo Gestión Proyectos e Innovación | B26: Empresas Aeronáuticas del Sector | C26: 1 | D26: 3 | E26: 1
A27: Vicepresidencia Comercial | B27: Empresas Aeronáuticas del Sector | C27: 1 | D27: 3 | E27: 1
A28: Revisar | B28: Vicepresidencia Administrativa - Departamento de las TICS | E28: 2
A29: Oficina Jurídica | B29: Entes de Control | C29: 4 | D29: 4 | E29: 1
A30: Revisar | B30: Vicepresidencia Administrativa - Departamento Administrativo | E30: 1
A31: Revisar | B31: Vicepresidencia Administrativa - Gerencia Logística | E31: 1
A32: Oficina de Planeación | B32: Vicepresidencia Administrativa - Gerencia Logística | E32: 2
A33: Oficina Jurídica | B33: Entidades Privadas | C33: 1.5 | D33: 3 | E33: 1
A34: Revisar | B34: Oficina de Control Interno | E34: 1
A35: Oficina de Planeación - Grupo Gestión Proyectos e Innovación | B35: Oficina de Control Interno | E35: 1
A36: Oficina Jurídica | B36: Entidades Publicas | C36: 4 | D36: 3 | E36: 1
A37: Oficina Jurídica | B37: Personas Naturales | C37: 1 | D37: 4 | E37: 1
A38: Oficina de Planeación - Grupo Gestión Proyectos e Innovación | B38: Ministerio de Ciencia, Tecnología e Innovación | C38: 3.5 | D38: 2 | E38: 1
A39: Oficina Jurídica | B39: Vicepresidencia Administrativa | E39: 1
A40: Oficina de Planeación - Grupo Gestión Proyectos e Innovación | B40: Ministerio de Comercio, Industria y Turismo Secretaria Desarrollo Economico | C40: 2 | D40: 2 | E40: 1
...

Sheet Grupos de Trabajo
A1: Dependencia | B1: Estructura | C1: Grupo de trabajo
A2: Oficina de Planeación | B2: Oficina de Planeación | C2: Oficina de Planeación
A3: Presidencia - Comunicaciones | B3: Presidencia | C3: Comunicaciones
A4: Revisar | B4: Revisar | C4: Revisar
A5: Oficina de Planeación - Grupo Gestión Proyectos e Innovación | B5: Oficina de Planeación | C5: Grupo Gestión Proyectos e Innovación
A6: Oficina Jurídica | B6: Oficina Jurídica | C6: Oficina Jurídica
A7: Vicepresidencia Comercial | B7: Vicepresidencia Comercial | C7: Vicepresidencia Comercial
A8: Vicepresidencia Administrativa - Gerencia Logística - Grupo de Comercio Exterior | B8: Vicepresidencia Administrativa | C8: Gerencia Logística - Grupo de Comercio Exterior
A9: Vicepresidencia Administrativa - Departamento de las TICS | B9: Vicepresidencia Administrativa | C9: Departamento de las TICS
A10: Vicepresidencia Administrativa - Departamento administrativo - Gestión Ambiental | B10: Vicepresidencia Administrativa | C10: Departamento administrativo - Gestión Ambiental
A11: Vicepresidencia Financiera - Presupuesto | B11: Vicepresidencia Financiera | C11: Presupuesto
A12: Vicepresidencia Financiera - Grupo de Tesorería | B12: Vicepresidencia Financiera | C12: Grupo de Tesorería
... A27: Vicepresidencia Operativa - Grupo CECSA | B27: Vicepresidencia Operativa | C27: Grupo CECSA

Sheet Matriz de Partes Interesadas
A1: Parte Interesada | B1: Dependencia | C1: Proceso | D1: Tipo de Parte Interesada | E1: Necesidades | F1: Expectativa | G1: Acciones para abordar la necesidad | H1: Información Documentada de Evidencia
A2: Grupo Social y Empresarial de la Defensa | B2: Oficina de Planeación | C2: Direccionamiento Estratégico | D2: Externa | E2: Cumplimiento oportuno y con calidad a los informes de resultados y los trámites ante los entes de control y entidades a las que se les debe reportar información. * Estricto cumplimiento a las políticas administrativas establecidas. | F2: Información veraz que permita la toma de decisiones. Lineamientos con las políticas administrativas que permitan el logro de las metas sectoriales. | G2: Generación de informes con base en los lineamientos establecidos Elaboración del Plan Estratégico Institucional con base en la Estrategía Sectorial Planificación Estratégica * Instructivo de avance MIPG sectorial (trimestralmente) *Ficha de avance indicadores PES (trimestral) * Tablero megas *Memorias al congreso *Reporte anual entidades | H2: Informes GSED Plan Estratégico Institucional Plan de Acción Anual
A3: Todas las áreas | B3: Presidencia - Comunicaciones | C3: Direccionamiento Estratégico | D3: Interna | E3: Estar informados sobre lo que sucedce en la Corporación | F3: Recibir información de la Corporación de forma clara y oportuna | G3: Generación de contenido y distribución por los diferentes canales con los que cuenta la Corporación | H3: Boletines Internos Fondos de pantalla Correos electrónicos Contenido en televisores Charlas generales Grupos primarios
A4: Ciudadanía (Pagina Web | Redes Sociales) | B4: Presidencia - Comunicaciones | C4: Direccionamiento Estratégico | D4: Externa | E4: Dar a conocer hechos relevantes de la Corporación a la ciudadanía en general | F4: Encontrar información de calidad y veraz | G4: Publicaciones en redes y sociales y página web | H4: Publicaciones en redes y sociales y página web
A5: Medios de comunicación | B5: Presidencia - Comunicaciones | C5: Direccionamiento Estratégico | D5: Externa | E5: Dar a conocer hechos relevantes de la Corporación a la ciudadanía en general de acuerdo a las necesidades de los medios | F5: Recibir información de la Corporación de forma clara y oportuna | G5: Generación de comunicados de prensa en acompañamiento de la oficina jurídica. | H5: Comunicados de prensa aprobados por la presidencia
A6: Grupo Social y Empresarial de la Defensa | B6: Presidencia - Comunicaciones | C6: Direccionamiento Estratégico | D6: Externa | E6: Posicionamiento de las empresas del GSED a través de las capacidades ofertadas por cada entidad | G6: Actualización de información que genere noticia Desarrollo de eventos en conjunto Portafolio de servicios Estrategias de comunicación conjuntas | H6: Fotos y videos del evento Tweets y notas en página web y otros medios Acciones derivadas de la estrategia Boletín GSED
A7: Unidad de Información y Análisis Financiero UIAF | B7: Oficina de Planeación | C7: Direccionamiento Estratégico | D7: Externa | E7: Informar oportunamente las operaciones sospechosas | G7: Generación de informes para reportar las operaciones sospechosas y Reportes de efectivo | H7: 1. Reporte de operaciones sospechosas - ROS 2. Ausencia de reporte de operaciones sospechosas - AROS 3. Reporte de efectivo
A8: Junta Directiva | B8: Oficina de Planeación | C8: Direccionamiento Estratégico | D8: Interna | E8: Recibir información suficiente, clara y oportuna para la toma de decisiones sobre la Corporación | F8: Conocer el estado de la empresa y dar lineamientos sobre su administración | G8: 1. Elaboración de la presentación para las sesiones de Junta Directiva 2. Formulación de la planeación estratégica de la Corporación 3. Análisis de las necesidades, situación y proyección de la Corporación para la elaboración del proyecto de Presupuesto y la Propuesta de Distribución de utilidades para cada vigencia 4. Preparación del Informe de Gestión Anual que refleje los resultados de la gestión en cada vigencia 5. Presentar el seguimiento al cumplimiento del Plan estratégico Cuatrienal y a la ejecución de los Proyectos de inversión. 6. Informe de gestión Oficial de Cumplimiento | H8: 1. Presentaciones de Junta Directiva 2. Plan Estratégico Institucional, Plan Estratégico Cuatrienal y Plan de Acción Anual 3. Proyecto de Presupuesto y Propuesta de Distribución de utilidades de cada vigencia 4. Informe de Gestión Anual 5. Seguimiento al Plan Estratégico Cuatrienal y a la ejecución de los Proyectos de Inversión. 6. Informe de gestión trimestral Oficial de Cumplimiento SARLAFT
A9: Procuraduría General de la Nación | B9: Oficina de Planeación | C9: Direccionamiento Estratégico | D9: Externa | E9: Cumplimiento de conformidad con el Sistema de Información para el Registro, Seguimiento, Monitoreo y Generación del Índice de Cumplimiento (ITA- Índice de Transparencia y Acceso a la Información) de los Sujetos Obligados en la Ley 1712 de 2014 de la Procuraduría General de la Nación | G9: Monitoreo y seguimiento a la actualización de la página web Revisión de la completitud y oportunidad del cargue de los documentos de la página | H9: Instructivo Administración de la página web CIAC
A10: Entes Certificadores | B10: Oficina de Planeación | C10: Direccionamiento Estratégico | D10: Externa | E10: Suministro de información previa y seguimiento a las auditorías en terminos de calidad y oportunidad, cumplimiendo con los requisitos normativos | F10: Mejoramiento continuo del sistema | G10: Comunicación y seguimiento continuo para la coordinación de las auditorías incluyendos pagos, entrega de información previa. Consolidación de los planes de acción garantizando la calidad y oportunidad de los compromisos formulados | H10: Correos de seguimiento de actividades de mejoramiento. Cargue de planes de acción en las plataformas establecidas para cada caso.
A11: Ministerio de Hacienda y Crédito Público | B11: Oficina de Planeación | C11: Direccionamiento Estratégico | D11: Externa | E11: Conocer el presupuesto y modificaciones al mismo para realizar seguimiento | G11: Cargue del presupuesto aprobado en el aplicativo EICE y envío de los acuerdos que modifican el presupuesto. Envío de la propuesta de distribución de las utilidades de la vigencia anterior | H11: Presupuesto aprobado y sus modificaciones aprobadas por la Junta Directiva Propuesta distribución utilidades
A12: Departamento Nacional de Planeación - DNP | B12: Oficina de Planeación | C12: Direccionamiento Estratégico | D12: Externa | E12: Conocer el presupuesto de inversión y sus modificaciones para realizar seguimiento | G12: Envío de la propuesta de distribución de las utilidades de la vigencia anterior | H12: Propuesta distribución utilidades
A13: Departamento Administrativo de la Función Pública - DAFP | B13: Oficina de Planeación | C13: Direccionamiento Estratégico | D13: Externa | E13: Dar cumplimiento a las políticas administrativas establecidas. Planificar, mantener y mejorar el Modelo Integrado de Planeación y Gestión Cumplimiento de la Ley 1474 del 2011 y decreto 612 del 2018 | F13: Información veraz que permita la toma de decisiones. Presentar información de interés y alto impacto a la ciudadania en el ejercicio de rendición de cuentas | G13: Cumplimiento de los plazos para la realización de actividades de rendición de cuentas * Consolidación y reporte del FURAG * Seguimiento y monitoreo a la gestión (comité institucional de gestión y desempeño - trimestral) * Generación de planes de acción para abordar el cierre de brechas del FURAG * Publicación de los planes establecidos en el decreto 612 del 2018 | H13: Rendición de Cuentas para cada vigencia Presentación reporte FURAG Plan MIPG para cada vigencia Planes publicados en la página web
A14: Todas las áreas | B14: Oficina de Planeación | C14: Direccionamiento Estratégico | D14: Interna | E14: Revisión y aprobación de la documentación de los procesos, asegurando su integridad, disponibilidad, confidencialidad y el uso de documentación vigente; dando así cumplimiento a los sistemas de gestión implementados en la Corporación | F14: Surtir el proceso de control documental en el menor tiempo posible | G14: Revisión y aprobación de los documentos de los procesos usando sistema de gestión documental, teniendo en cuenta los requisitos de las normas que sirven como base de los diferentes sistemas de gestión. | H14: Procedimiento control de documentos y registros del SIGCA CIAC
A15: Oficina de Planeación - Grupo Gestión Proyectos e Innovación | B15: Revisar | C15: Direccionamiento Estratégico | D15: Interna | E15: Formulación de las necesidades de recursos para proyectos de inversión | G15: Envío de necesidades de recursos para los proyectos de inversión según lo definido por el Grupo de Gestión de Proyectos e Innovación | H15: Anexo Proyecto de Inversión
A16: Todas las áreas | B16: Oficina de Planeación | C16: Direccionamiento Estratégico | D16: Interna | E16: Apoyo en el diseño, reestructuración de procesos, y modificación de procedimientos | G16: Mesas de trabajo con los procesos Implementación de ingeniería de métodos y modelamiento de procesos en el BPM. | H16: Correos electrónicos con los procesos Procedimientos y flujogramas Procedimientos modelados BPM
A17: Todas las áreas | B17: Oficina de Planeación | C17: Direccionamiento Estratégico | D17: Interna | E17: Apoyo en la definición e implementación de actividades que aseguren el cumplimiento de los diferentes estándares de gestión según las normas que rigen los procesos de la corporación | F17: Directrices y lineamientos claros para la correcta ejecución de acciones que impacten positivamente los resultados en términos de cumplimiento de los estándares de gestión | G17: Acompañamiento contínuo a los procesos que sirven como apoyo a la gestión de cada uno de ellos en el marco de los estándares de gestión y la mejora continua Preparación y puesta en marcha de las auditorías internas y externas de gestión del SIGCA Seguimiento a planes de mejoramiento enfocados a subsanar los hallazgos de auditorías y oportunidades de mejora | H17: Mesas de trabajo con los procesos Sofware de gestión documental Emisión de conceptos de las auditorías externas realizadas por el profesional de control y seguridad - SARLAFT
A18: Todas las áreas | B18: Oficina de Planeación | C18: Direccionamiento Estratégico | D18: Interna | E18: Seguimiento, consolidación, presentación y apoyo en la definición de indicadores de gestión que soporten el cumplimiento de tareas, metas y objetivos estratégicos para la adecuada toma de decisiones. | F18: Presentación clara y que permita la toma de decisiones al nivel directivo. | G18: Consolidación, alimentación y presentación de los indicadores de gestión Apoyo en la definición e implementación de nuevos indicadores Seguimiento a los resultados de los indicadores y apertura de planes de mejoramiento cuando las métricas se encuentren por debajo de las óptimas | H18: Presentación de Indicadores usando Power BI Actas de reunión para los espacios de monitoreo definidos Planes de mejoramiento
A19: Todas las áreas | B19: Oficina de Planeación | C19: Direccionamiento Estratégico | D19: Interna | E19: Apoyo en la definición e implementación de actividades que aseguren el cumplimiento de los objetivos estratégicos definidos por la corporación para alcanzar el cumplimiento de la misión y la visión institucional | F19: Creación de espacios de asesoría y clarificación de inquietudes que permitan construir actividades dirigidas al cumplimiento de los objetivos estratégicos | G19: Agendar reuniones con los representantes de los procesos que sirvan para delinear las tareas que contribuyan alo logro de las metas, objetivos y líneas de acción estratégicas | H19: Actas, registro asistencia y/o grabaciones de las reuniones con los procesos
A20: Todas las áreas | B20: Oficina de Planeación | C20: Direccionamiento Estratégico | D20: Interna | E20: Apoyo en el análisis del entorno de la corporación con base en las debilidades, oportunidades y fortalezas para la definición de líneas estratégicas | F20: Alineación con la estrategia definida por el gobierno nacional y los objetivos trazados por la Junta Directiva y la Alta Dirección | G20: Consolidación de las debilidades, fortalezas, oportunidades y amenazas de los procesos y el entorno para obtener líneas de acción estratégicas | H20: Matriz DOFA y FODA
A21: Todas las áreas | B21: Oficina de Planeación | C21: Direccionamiento Estratégico | D21: Interna | E21: Trámites presupuestales (traslados, vigencias futuras, adición de ingresos y gastos) | G21: Tramitar ante la Junta Directiva los requerimientos presupuestales necesarios para el funcionamiento y cumplimiento de las obligaciones contractuales de la corporación | H21: Acuerdos (vigencia futura, traslado presupuestal) Resoluciones de desagregación de ingresos y gastos
A22: Presidencia | B22: Revisar | C22: Direccionamiento Estratégico | D22: Interna | E22: Apoyo en la elaboración de presentaciones que requieran entes externos | G22: Elaboración de presentaciones para posterior visto bueno de la presidencia | H22: Presentaciones ante entes externos
A23: Vicepresidencia Operativa - Departamento de Entrenamiento | B23: Revisar | C23: Direccionamiento Estratégico | D23: Interna | E23: Formulación de las necesidades de capacitación y personal para alcanzar la meta de tener un personal calificado y competente | F23: Presentación de necesidades claras, objetivas y coherentes | G23: Envío de necesidades en términos de capacitación según lo definido por el CECSA | H23: Formato Diligenciado de necesidades de capacitación Formatos diligenciados de requerimiento de personal
A24: Vicepresidencia Operativa - Departamento de Entrenamiento | B24: Oficina de Planeación | C24: Direccionamiento Estratégico | D24: Interna | E24: Programación de actividades de capacitación en relación con temas de catalogacióin, SGCS-SARLAFT y OEA | G24: Envío del cronograma de capacitaciones, listados de asistencia y certificados de capacitación | H24: Cronograma de capacitaciones Certificados de capacitación, cuando aplique expedición Listados de asistencia
A25: Vicepresidencia Administrativa - Departamento de las TICS | B25: Revisar | C25: Direccionamiento Estratégico | D25: Interna | E25: Formulación de las necesidades de recursos tecnológicos para el desarrollo de las actividades en condiciones óptimas | F25: Presentación de necesidades claras, objetivas y coherentes | G25: Envío de necesidades en términos de capacitación según lo definido por el Grupo de Gestión TICS | H25: Formato Necesidades Plan de Compras Vigencia Siguiente
A26: Vicepresidencia Administrativa - Departamento de las TICS | B26: Revisar | C26: Direccionamiento Estratégico | D26: Interna | E26: Cumplimiento de las políticas establecidas para asegurar la seguridad de la información | F26: Informar sobre el posible incumplimiento de estas políticas y promover entre todos los funcionarios la cultura de seguridad de la información | G26: Uso exclusivo de los recursos tecnológicos de la información para las labores propias de las funciones u objetos contractuales Activar la conexión VPN a través de dispositivos de plena confianza Asistencia a charlas de ciberseguridad al ingreso a la Corporación y demás capacitaciones relacionadas con la seguridad de la información No compartir cuentas de usuario y contraseñas con otros colaboradores o terceras partes Realización periódica de copias de resplado de la información que se tiene a cargo Bloqueo de los equipos de cómputo cada vez que se deba dejar el puesto de trabajo Retirar un equipo o medio de almacenamiento únicamente con la autorización de GTICS No abrir ningún correo electrónico bajo la sospecha de que se trata de un correo malicioso e informar a GTICS | H26: Asistencia a charlas de seguridad Cuentas y contraseñas individuales Copias de Respaldo en los sitios dispuestos para tal fin
A27: Vicepresidencia Administrativa - Departamento Administrativo | B27: Revisar | C27: Direccionamiento Estratégico | D27: Interna | E27: Formulación de las necesidades de recursos para el funcionamiento y normal desarrollo de las actividades del proceso | F27: Presentación de necesidades claras, objetivas y coherentes | G27: Envío de necesidades de recursos para el funcionamiento | H27: Formato Necesidades Plan de Compras Vigencia Siguiente
A28: Vicepresidencia Administrativa - Gerencia Logística | B28: Revisar | C28: Direccionamiento Estratégico | D28: Interna | E28: Solicitud de contratación de servicios | F28: Solicitud clara, cumpliendo con todos los requisitos definidos para la contratación de servicios | G28: Elaboración y envío de las necesidades de adquisiciones y/o servicios | H28: ECO registrado en Datadoc
A29: Oficina de Control Interno | B29: Revisar | C29: Direccionamiento Estratégico | D29: Interna | E29: Implementación y ejecución de los planes de mejoramiento de acuerdo a la evaluación FURAG -MIPG y programa de transparencia y ética pública | G29: Reportar el avance de las actividades de mejoramiento FURAG- MIPG y programa de transparencia y ética pública formato excel implementado por OCINT | H29: Archivo digital
A30: Oficina de Control Interno | B30: Oficina de Planeación - Grupo Gestión Proyectos e Innovación | C30: Direccionamiento Estratégico | D30: Interna | E30: Elaboración del programa de transparencia y ética pública y anexos de las estrategias del programa con base en la ley de transparencia y acceso a la información pública | G30: Definición de las actividades del programa de transparencia y ética pública (anual) | H30: Programa de transparencia y ética pública publicado en la página
A31: Entidades Publicas | B31: Oficina Jurídica | C31: Direccionamiento Estratégico | D31: Externa | E31: Respuesta de los derechos de petición o solicitudes de información a tiempo. | F31: Respuesta de manera puntual a las inquietudes, es decir, que se responda de fondo y de manera oportuna | G31: De conformidad con el procedimiento de PQRS, la oficina jurídica verifica los fundamentos legales para las respuestas y establece vistos buenos para las mismas | H31: Respuestas dadas a las peticiones presentadas, las cuales deben observar los lineamientos en materia de PQRS dados al interior de la Corporación
A32: Despachos Judiciales | B32: Oficina Jurídica | C32: Direccionamiento Estratégico | D32: Externa | E32: Respuesta a tiempo de las demandas, tutelas y demás requerimientos judiciales. | F32: Argumentación con fundamentos jurídicos que aporten a la discusión y solución en derecho de la controversia estudiada | G32: Realizar los analisis Jurídicos y proyección de documentos que se deben radicar ante el Despacho Judicial, de conformidad con el procedimiento de análisis y elaboración de documentos Jurídicos | H32: Las contestaciones dadas a las demandas y a las acciones de tutelas presentadas en contra de la Corporación, al igual que las respuestas dadas a los requerimientos efectuandas por los difrentes despachos de la Rama Judicial
A33: Entidades Privadas | B33: Oficina Jurídica | C33: Direccionamiento Estratégico | D33: Externa | E33: Respuesta de los derechos de petición o solicitudes de información a tiempo. | F33: Respuesta de manera puntual de las inquietudes, es decir, que se responda de fondo | G33: De conformidad con el procedimiento de PQRS, la oficina jurídica verifica los fundamentos legales para las respuestas y establece vistos buenos para las mismas | H33: Respuestas dadas a las peticiones presentadas, las cuales deben observar los lineamientos en materia de PQRS dados al interior de la Corporación
A34: Personas Naturales | B34: Oficina Jurídica | C34: Direccionamiento Estratégico | D34: Externa | E34: Respuesta de los derechos de petición o solicitudes de información a tiempo. | F34: Respuesta de manera puntual de las inquietudes, es decir, que se responda de fondo | G34: De conformidad con el procedimiento de PQRS, la oficina jurídica verifica los fundamentos legales para las respuestas y establece vistos buenos para las mismas | H34: Respuestas dadas a las peticiones presentadas, las cuales deben observar los lineamientos en materia de PQRS dados al interior de la Corporación
A35: Entes de Control | B35: Oficina Jurídica | C35: Direccionamiento Estratégico | D35: Externa | E35: 1.Respuesta a tiempo de los derechos de petición o solicitudes de información 2.Atención a las auditorías que practique el Ente de Control. | F35: 1.Respuesta de manera puntual de las inquietudes, es decir, que se responda de fondo 2.atención a los requerimientos que se efectúan en virtud de una auditoría | G35: 1.De conformidad con el procedimiento de PQRS, la oficina jurídica realiza el control de tiempos para las respuestas y establece vistos buenos para las mismas 2.Planes de mejoramiento o las acciones correctivas a los hallazgos informados por el Ente de Control | H35: 1. Respuestas dadas a las peticiones presentadas, las cuales deben observar los lineamientos en materia de PQRS dados al interior de la Corporación. 2. Actividades producto de los planes de mejoramiento.
A36: Vicepresidencia Administrativa | B36: Oficina Jurídica | C36: Direccionamiento Estratégico | D36: Interna | E36: Asesoría para lograr una correcta proyección de las respuesta dadas en virtud de las PQRS. | F36: Que las respuestas se den de manera puntual a las inquietudes, es decir, que se responda de fondo | G36: De conformidad con el procedimiento de PQRS, la oficina jurídica verifica los fundamentos legales para las respuestas y establece vistos buenos para las mismas | H36: Respuestas dadas a las peticiones presentadas, las cuales deben observar los lineamientos en materia de PQRS dados al interior de la Corporación
A37: Todas las áreas | B37: Oficina Jurídica | C37: Direccionamiento Estratégico | D37: Interna | E37: Asesorar en los asuntos legales que soliciten las áreas, generando respuestas bajo la normatividad legal vigente actual | F37: Contar con una asesoría legal adecuada y oportuna | G37: De conformidad con el procedimiento de análisis y elaboración de documentos jurídicos, realizar las actividades jurídicas necesarias | H37: Elaboración de documento, constancia de correos electronicos y/o revision de Documentos
A38: Departamento Nacional de Planeación - DNP | B38: Oficina de Planeación - Grupo Gestión Proyectos e Innovación | C38: Direccionamiento Estratégico | D38: Externa | E38: Conocer el presupuesto de inversión y sus modificaciones para realizar seguimiento | F38: Ejecución eficiente de los proyectos | G38: Envío de reportes mensuales SPI Envío soportes de presupuesto de inversión | H38: 1. Ejecución presupuestal y personal a cargo de proyectos en plataforma SPI
A39: Ministerio de Ciencia, Tecnología e Innovación | B39: Oficina de Planeación - Grupo Gestión Proyectos e Innovación | C39: Direccionamiento Estratégico | D39: Externa | E39: Impulsar la investigación e innovación | F39: Ejecución de convocatorias | G39: Seguimiento y aplicación a convocatorias | H39: Postulación de convocatorias
A40: Asociación Nacional de Empresarios de Colombia-ANDI | B40: Oficina de Planeación - Grupo Gestión Proyectos e Innovación | C40: Direccionamiento Estratégico | D40: Externa | E40: Impulsar la industria colombiana | F40: 1. Participación en las actividades. 2. Desarrollar apacidades para el fortalecimiento del sector industrial. | G40: 1. Participación en comités especializados. | H40: Citaciones y/o invitaciones a las reuniones
...

Sheet Matriz Partes Interesadas
A1: #VALUE! | B1: MATRIZ DE PARTES INTERESADAS | H1: Código: MTZ-1-03-001
H2: Fecha de Edición: 8/Octubre/2024
H3: Versión: 12
A5: Parte Interesada | B5: Criticidad | C5: Dependencia | D5: Tipo de Parte Interesada | E5: Necesidades | F5: Expectativa | G5: Acciones para abordar la necesidad | H5: Información Documentada de Evidencia
A6: Administradora de Riesgos Laborales (ARL) | B6: =VLOOKUP(Tabla1[[#This Row],[Parte Interesada]],'Caracterización P. interesadas'!A:F,6,FALSE) -> 3 | C6: Vicepresidencia Administrativa - Departamento de Talento Humano - Seguridad y Salud en el Trabajo | D6: Externa | E6: Cumplimiento a lo establecido en el Decreto 1072 de 2015 y Resolucion 0312 de 2019 sobre los estandares minimos de seguridad y salud en el Trabajo | F6: Baja tasa de accidentalidad y de enfermedades laborales | G6: Seguimiento al Sistema de Gestión de Seguridad y Salud en el Trabajo. Elaboración de plan de trabajo con la ARL. | H6: 1. Registros formato de investigación de accidentes de trabajo 2. Indicadores de accidentalidad laboral 3. Programas de promoción y prevención de accidentes de trabajo 4. Plan de Trabajo con la ARL. 5. Toda la documentación que soporta el sistema
A7: Agencia Jurídica del Estado | B7: =VLOOKUP(Tabla1[[#This Row],[Parte Interesada]],'Caracterización P. interesadas'!A:F,6,FALSE) -> 4 | C7: Oficina de Control Interno | D7: Externa | E7: Informe E-Kogui | F7: Conocer el grado de veracidad de la información digitada por los diversos responsables de alimentar el aplicativo E-Kogui, a través del seguimiento efectuado por la Oficina de Control Interno | G7: • Efectuar auditoría al aplicativo E-Kogui • Presentar la plantalla E-Kogui de Control Interno a la Agencia Jurídica del Estado • Publicar informe E-Kogui en la página web de la Corporación | H7: * Excel plantilla eKogui. * Seguimiento a cumplimiento de acciones de mejoramiento planteadas, si aplica.
A8: Agentes de carga internacional | B8: =VLOOKUP(Tabla1[[#This Row],[Parte Interesada]],'Caracterización P. interesadas'!A:F,6,FALSE) -> 2.5 | C8: Vicepresidencia Administrativa - Gerencia Logística - Grupo de Comercio Exterior | D8: Externa | E8: *Documentación que permita la identificación y trazabilidad de la carga y soportes que identifiquen la mercancia que se va a transportar. * Lineamientos y condiciones claras para la prestación del servicio de acuerdo a los requisitos establecidos por la corporación | F8: Información precisa y oportuna de la carga a transportar | G8: Seguimiento de los procesos establecidos para los movimientos de ingreso y salidas de mercancía | H8: *Contrato de prestación de servicios con el agente de Carga Contratado por CIAC. *Formatos y controles de acuerdo a lo establecido en los procesos internos. *Manual Operaciones de Salida de CIAC S. Comercio Exterior *Manual Operaciones de Ingreso de CIAC S. Comercio Exterior
A9: Aliados y/o Socios Estratégicos | B9: =VLOOKUP(Tabla1[[#This Row],[Parte Interesada]],'Caracterización P. interesadas'!A:F,6,FALSE) -> 4 | C9: Vicepresidencia Operativa - Gerencia de Mantenimiento | D9: Externa | E9: Cumplimiento de responsabilidades técnicas derivadas de los contratos/convenios pactados | F9: Generar utilidades o beneficios para su sostenimiento | G9: Realización del consejo/comité de administración trimestral entre el aliado o socio estratégico y la presidencia CIAC | H9: Actas de reunión
A10: Archivo General de la Nación | B10: =VLOOKUP(Tabla1[[#This Row],[Parte Interesada]],'Caracterización P. interesadas'!A:F,6,FALSE) -> 4.1 | C10: Vicepresidencia Administrativa - Departamento administrativo | D10: Externa | E10: Cumplir con la normatividad establecida para el cumplimiento de las políticas de archivo y aplicaciones de las herramientas del sistema de Gestión Documental (SGDA) | F10: Garantizar en todo momento la integridad, autenticidad, veracidad y fidelidad de la información bajo parámetros técnicos de organización, seguridad, trámite, gestión, conservación y disposición | G10: • Elaboración y mejora continua de los instrumentos archivísticos. | H10: • Comunicados de envío al AGN de las TRD y demás instrumentos archivisticos (según aplique), de acuerdo a las necesidades de actualización. • Planes y Programas.
A11: Asociación Nacional de Empresarios de Colombia-ANDI | B11: =VLOOKUP(Tabla1[[#This Row],[Parte Interesada]],'Caracterización P. interesadas'!A:F,6,FALSE) -> 3.5 | C11: Oficina de Planeación - Grupo Gestión Proyectos e Innovación | D11: Externa | E11: Impulsar la industria colombiana | F11: 1. Participación en las actividades. 2. Desarrollar apacidades para el fortalecimiento del sector industrial. | G11: 1. Participación en comités especializados. | H11: Citaciones y/o invitaciones a las reuniones
A12: Asociaciones de recicladores | B12: =VLOOKUP(Tabla1[[#This Row],[Parte Interesada]],'Caracterización P. interesadas'!A:F,6,FALSE) -> 2 | C12: Vicepresidencia Administrativa - Departamento administrativo - Gestión Ambiental | D12: Externa | E12: Fortalecer su estructura organizacional y cadena de valor a través del aprovechamiento del material aprovechable generado por la corporación | F12: Consolidarse como aliados de la corporación | G12: Entrega de material aprovechable a asociaciones de recicladores | H12: Manifiestos de entrega, actas de aprovechamientos de materiales
A13: Autoridades Aeronáuticas | B13: =VLOOKUP(Tabla1[[#This Row],[Parte Interesada]],'Caracterización P. interesadas'!A:F,6,FALSE) -> 3.5 | C13: Vicepresidencia Operativa - Departamento de Aseguramiento de la Calidad y Seguridad Operacional | D13: Externa | E13: Cumplimiento de los requisitos legales aplicables, derivados de regulaciones, reglamentos, normas, leyes, contratos, manuales de los fabricantes de aeronaves y componentes, políticas y lineamientos establecidos en lo manuales de CIAC aprobado y aceptados por las Autoridades Aeronáuticas. Recibir reporte "Mandatory Operational Reports" MOR y el informe de indicadores SPI | F13: Suministro de información clara, completa y oportuna evidenciando cumplimiento de las normas que aplican a los productos o servicios que provee la Corporación | G13: 1. Auditoría a los procesos internos de la Corporación, seguimiento al cumplimiento de los hallazgos para asegurar el cumplimiento de las normas. 2. Velar por el cumplimiento de los requisitos establecidos en el Manual de Seguridad Operacional 3. Generar y enviar informe de indicadores SPI 4. Mantener actualizada la base de datos de seguridad Operacional (SDCPS) 5. Informar los Mandatory Operational Reports (MOR) 6. Alinear el manual de seguridad operacional con el RAC vigente (Carta de cumplimiento). | H13: - Forma F-2-070 Programa de Auditoria - Forma F-2-018 Lista de Chequeo - Forma F-2-019 Informe de Auditoria - Software de gestión de calidad - PRG-2-04-015 Programa de Seguridad Operacional - Correos electrónicos - Reportes cargados en la plataforma IRIS (UAEAC) - Carta de cumplimiento
A14: Autoridades Aeronáuticas | B14: =VLOOKUP(Tabla1[[#This Row],[Parte Interesada]],'Caracterización P. interesadas'!A:F,6,FALSE) -> 3.5 | C14: Vicepresidencia Operativa - Gerencia de Mantenimiento | D14: Externa | E14: Cumplimiento de los requisitos legales aplicables, derivados de regulaciones, reglamentos, normas, leyes, contratos, manuales de los fabricantes de aeronaves y componentes, políticas y lineamientos establecidos en lo manuales de CIAC aprobado y aceptados por las Autoridades Aeronáuticas. | F14: Suministro de información clara, completa y oportuna, en donde no se evidencie ningun hallazgo respecto al cumplimiento de los requisitos. | G14: Cumplimiento de los procedimientos establecidos en manuales, instructivos, planes, controles, informes, documentos, etc., emitidos por la Oficina de Control Calidad | H14: M-2-02-004 Manual de la Organización de Mantenimiento - MOM M-2-02-008 Programa de Instrucción - PI M-2-02-009 Anexo a la Lista de Capacidades MT-2-02-004 Repair Station Manual MT-2-02-003 Quality Control Manual M-2-02-002 Suplemento DGAC Chile Reglamento aeronautico Latinoamericano M-2-02-003 Suplemento Aviación de Estado al MOM M-2-02-006 Suplemento para la Aviación de Estado al PI M-4-10-002 Non Destructive Testing Manual I-2-02-003 Instructivo Emisión & Control de Sellos de Documentación Técnica I-2-02-006 Instructivo Cierre Técnico I-2-02-011 Instructivo Diligenciamiento de Documentación Técnica P-2-02-001 Procedimiento Control de Salida No Conforme del SIGCA CIAC
A15: Autoridades Aeronáuticas | B15: =VLOOKUP(Tabla1[[#This Row],[Parte Interesada]],'Caracterización P. interesadas'!A:F,6,FALSE) -> 3.5 | C15: Vicepresidencia Operativa - Gerencia de Producción | D15: Externa | E15: Cumplimiento de los requisitos legales aplicables, derivados de regulaciones, reglamentos, normas, leyes, contratos, manuales de los fabricantes de aeronaves y componentes, políticas y lineamientos establecidos en lo manuales de CIAC aprobado y aceptados por las Autoridades Aeronáuticas. | F15: Que se generen evidencias aprobadas, únicas, actualizadas, trazables y controladas del cumplimiento de sus requisitos y solicitudes para todo el ciclo de vida de los productos y servicios que son desarrollados y ofrecidos por la gerencia. | G15: Cumplimiento de los procedimientos establecidos en manuales, instructivos, planes, controles, informes, documentos, etc., emitidos por la Oficina de Control Calidad | H15: M-3-02-001 Manual de la organización de producción. M-4-10-002 Non Destructive Testing Manual I-2-02-003 Instructivo Emisión & Control de Sellos de Documentación Técnica I-2-02-006 Instructivo Cierre Técnico I-2-02-011 Instructivo Diligenciamiento de Documentación Técnica P-2-02-001 Procedimiento Control de Salida No Conforme del SIGCA CIAC
A16: Autoridades Aeronáuticas | B16: =VLOOKUP(Tabla1[[#This Row],[Parte Interesada]],'Caracterización P. interesadas'!A:F,6,FALSE) -> 3.5 | C16: Vicepresidencia Operativa - Grupo CECSA | D16: Externa | E16: Cumplimiento de las normatividad aeronaútica. | F16: Suministro de información clara, completa y oportuna en relación a la ejecución de entrenamientos acorde con la normatividad aeronautica. | G16: Elaboración y revisión de manuales, informes, documentos, etc., emitidos por el Centro de Entrenamiento para establecer los procedimientos, controles y acciones a seguir para dar cumplimiento a los requisitos normativos. | H16: 1. Especificaciones de Operación del CECSA. 2. Manual Directivas de Instrucción MDI 3. Training Program Manual TPM 4. Informe mensual y semestral a la autoridad aeronáutica relacionando los cursos realizados y aprobados en el CECSA. 5. Anuncio de programación de entrenamiento aeronáutico por medio de correo electrónico
A17: Autoridades Aeronáuticas | B17: =VLOOKUP(Tabla1[[#This Row],[Parte Interesada]],'Caracterización P. interesadas'!A:F,6,FALSE) -> 3.5 | C17: Vicepresidencia Operativa - Oficina de Control Calidad | D17: Externa | E17: Cumplimiento de los requisitos legales aplicables, derivados de regulaciones, reglamentos, normas, leyes, contratos, manuales de los fabricantes de aeronaves y componentes, políticas y lineamientos establecidos en lo manuales de CIAC aprobado y aceptados por las Autoridades Aeronáuticas. | F17: Suministro de información clara, completa y oportuna, en donde no se evidencie ningun hallazgo respecto al cumplimiento de los requisitos. | G17: Elaboración y revisión de manuales, instructivos, planes, informes, documentos, etc., emitidos por la Oficina de Control Calidad para establecer los procedimientos, controles y acciones a seguir por la corporación para dar cumplimiento a estos requisitos. | H17: M-2-02-004 Manual de la Organización de Mantenimiento - MOM M-2-02-008 Programa de Instrucción - PI M-2-02-009 Anexo a la Lista de Capacidades MT-2-02-004 Repair Station Manual MT-2-02-003 Quality Control Manual M-2-02-002 Suplemento DGAC Chile Reglamento aeronautico Latinoamericano M-2-02-003 Suplemento Aviación de Estado al MOM M-2-02-006 Suplemento para la Aviación de Estado al PI MT-03-01-001 Manual de diseño y desarrollo. M-3-02-001 Manual de la organizacion de produccion. M-4-10-002 Non Destructive Testing Manual I-2-02-003 Instructivo Emisión & Control de Sellos de Documentación Técnica I-2-02-006 Instructivo Cierre Técnico I-2-02-011 Instructivo Diligenciamiento de Documentación Técnica P-2-02-001 Procedimiento Control de Salida No Conforme del SIGCA CIAC
... A59: Departamento Administrativo Nacional de Estadística - DANE | B59: =VLOOKUP(Tabla1[[#This Row],[Parte Interesada]],'Caracterización P. interesadas'!A:F,6,FALSE) -> 2.8 | C59: Vicepresidencia Financiera - Grupo de Contabilidad | D59: Externa | E59: Recopilar información en relación a estadísticas basadas en: contratación de personal de la entidad, ingresos costos y gastos de la entidad, información de inversión en tecnología, inventarios de la Corporación, consumo de energía. | F59: Diligenciamiento oportuno de las encuestas solicitadas a la Corporación | G59: Generar las encuestas mensuales y anuales de la situación financiera en la plataforma del DANE. Solicitar mediante correo electrónico o comunicado interno la información requerida para que la Dirección dé respuesta a su petición. | H59: Diligenciamiento y envío de las encuestas solicitadas por el DANE
A60: Departamento Nacional de Planeación - DNP | B60: =VLOOKUP(Tabla1[[#This Row],[Parte Interesada]],'Caracterización P. interesadas'!A:F,6,FALSE) -> 3 | C60: Oficina de Planeación | D60: Externa | E60: Conocer el presupuesto de inversión y sus modificaciones para realizar seguimiento | G60: Envío de la propuesta de distribución de las utilidades de la vigencia anterior | H60: Propuesta distribución utilidades
A61: Departamento Nacional de Planeación - DNP | B61: =VLOOKUP(Tabla1[[#This Row],[Parte Interesada]],'Caracterización P. interesadas'!A:F,6,FALSE) -> 3 | C61: Oficina de Planeación - Grupo Gestión Proyectos e Innovación | D61: Externa | E61: Conocer el presupuesto de inversión y sus modificaciones para realizar seguimiento | F61: Ejecución eficiente de los proyectos | G61: Envío de reportes mensuales SPI Envío soportes de presupuesto de inversión | H61: 1. Ejecución presupuestal y personal a cargo de proyectos en plataforma SPI
A62: Despachos Judiciales | B62: =VLOOKUP(Tabla1[[#This Row],[Parte Interesada]],'Caracterización P. interesadas'!A:F,6,FALSE) -> 5 | C62: Oficina Jurídica | D62: Externa | E62: Respuesta a tiempo de las demandas, tutelas y demás requerimientos judiciales. | F62: Argumentación con fundamentos jurídicos que aporten a la discusión y solución en derecho de la controversia estudiada | G62: Realizar los analisis Jurídicos y proyección de documentos que se deben radicar ante el Despacho Judicial, de conformidad con el procedimiento de análisis y elaboración de documentos Jurídicos | H62: Las contestaciones dadas a las demandas y a las acciones de tutelas presentadas en contra de la Corporación, al igual que las respuestas dadas a los requerimientos efectuandas por los difrentes despachos de la Rama Judicial
A63: Dirección de Impuestos y Aduanas Nacionales -DIAN | B63: =VLOOKUP(Tabla1[[#This Row],[Parte Interesada]],'Caracterización P. interesadas'!A:F,6,FALSE) -> 4 | C63: Vicepresidencia Administrativa - Departamento de Talento Humano | D63: Externa | E63: Reporte mensual de nómina electrónica | F63: Cumplimiento normativo | G63: Consolidación y cargue de la información en la plataforma de la DIAN | H63: Informe prevalidador XML transmisión de nómina electrónica
A64: Dirección de Impuestos y Aduanas Nacionales -DIAN | B64: =VLOOKUP(Tabla1[[#This Row],[Parte Interesada]],'Caracterización P. interesadas'!A:F,6,FALSE) -> 4 | C64: Vicepresidencia Administrativa - Gerencia Logística - Grupo de Comercio Exterior | D64: Externa | E64: *Dar cumplimiento a la normatividad aduanera, tributaria y cambiaria vigente, que sea aplicable a los procesos de la Corporación. | F64: *Cumplimiento de las responsabilidades adquiridas como Usuarios Aduaneros, para evitar sanciones aduaneras. *Ser un usuario de Confianza para la Dirección de Impuestos y Aduanas Nacionales. *Mantener la calificación como Operador Económico Autorizado. | G64: *Actualización permanente en la normatividad aduanera vigente para la aplicación en los proceso de la corporación. *Cumplimiento de la realización de nacionalizaciones correspondientes de acuerdo a los elementos que se entegaran al cliente y saldran al TAN. * Cumplimiento de la normatividad aduanera en los procesos de exportación de mercancias al exterior. * Presentación y pago oportuno de tributos aduaneros | H64: Manual Operaciones de Salida de CIAC S. Comercio Exterior Manual Operaciones de Ingreso de CIAC S. Comercio Exterior
A65: Dirección de Impuestos y Aduanas Nacionales -DIAN | B65: =VLOOKUP(Tabla1[[#This Row],[Parte Interesada]],'Caracterización P. interesadas'!A:F,6,FALSE) -> 4 | C65: Vicepresidencia Financiera - Grupo de Contabilidad | D65: Externa | E65: Velar por el estricto cumplimiento de las obligaciones tributarias a cargo de los contribuyentes | F65: Recibir oportunamente las declaraciones tributarias, así como recaudar de manera satisfactoria los impuestos nacionales | G65: Establecer un cronograma de impuestos nacionales, en el cual se determinen las fechas de cierre contables Realizar la liquidación de los impuestos de manera oportuna Envío de los impuestos para verificación y firma de la revisoría fiscal y presentación y pago de los mismos, garantizando el oportuno tramite en cumplimiento al calendario tributario establecido por la Dirección de Impuestos y Aduanas Nacionales DIAN para cada vigencia. Entregar oportunamente la información exógena nacional | H65: Hojas de trabajo de liquidación de los impuestos; formularios de presentación y recibos de pago
A66: Dirección de Impuestos y Aduanas Nacionales -DIAN | B66: =VLOOKUP(Tabla1[[#This Row],[Parte Interesada]],'Caracterización P. interesadas'!A:F,6,FALSE) -> 4 | C66: Vicepresidencia Financiera - Grupo de Tesorería | D66: Externa | E66: 1. Cumplimiento de la normatividad cambiaria | F66: 3. Recibir la presentacion de los medios magneticos en la fechas estipuladas cumpliendo con la normatividad vigente. | G66: 1. Realizar el reporte consolidado trimestral de la informacion exogena cambiaria concerniente a la tesoreria para el aplicativo de la DIAN. 2. Mantener actualizada la informacion en el aplicativo del Banco de la cuenta de compensación con las declaraciones efectuadas en el trimestre a reportar y el diligenciamiento de los formulario de las legalizaciones pendientes | H66: 1. Archivo XML generados por la plataforma de la cuenta de compensacion. 2. Formato de presentación de información por envio de archivos. (Direccion de impuestos y Aduanas Nacionales ( DIAN).
A67: Dirección Nacional de Derechos de Autor | B67: =VLOOKUP(Tabla1[[#This Row],[Parte Interesada]],'Caracterización P. interesadas'!A:F,6,FALSE) -> 1.5 | C67: Oficina de Control Interno | D67: Externa | E67: Informe de cumplimiento de derechos de autor software | F67: • Conocer el grado de cumplimiento de la Entidad en asuntos de Derechos de Autor software através del seguimiento efectuado por la Oficina de Control Interno, •Conocer la efectividad de los controles que CIAC S.A implementa para proteger los derechos de autor software. | G67: • Efectuar revisión de cumplimiento de derechos de autor software. • Documentar informe de cumplimiento de derechos de autor software. • Presentar informe de cumplimiento de derechos de autor a la presidencia CIAC. • Diligenciamiento del aplicativo online de la Dirección Nacional de Derechos de Autor y obtención del respectivo certificado. • Publicar informe de cumplimiento de derechos de autor en la página web de la Corporación. • Informar a la presidencia , Subpresidencia, Comité de Coordinación de Control Interno y Comité de Auditoría acerca del estado de las acciones de Mejoramiento suscritas para superar las debilidades detectadas, en caso de que se presenten. | H67: • Informe de cumplimiento de derechos de autor software. • Certificado de diligenciamiento del aplicativo online de la Dirección Nacional de Derechos de Autor. * Correo electrónico de información de las dependencias involucradas. * Seguimiento a cumplimiento de acciones de mejoramiento planteadas, si aplica.
A68: Empresas Aeronáuticas del Sector | B68: =VLOOKUP(Tabla1[[#This Row],[Parte Interesada]],'Caracterización P. interesadas'!A:F,6,FALSE) -> 2 | C68: Oficina de Planeación - Grupo Gestión Proyectos e Innovación | D68: Externa | E68: Impulso empresarial | F68: Participación en las actividades para el desarrollo empresarial y desarrollo de proyectos. | G68: Participación en proyectos, de acuerdo a necesidades y requerimientos de CIAC. | H68: 1. Documentos de proyectos. 2. Firma de convenios o acuerdos.
A69: Empresas Aeronáuticas del Sector | B69: =VLOOKUP(Tabla1[[#This Row],[Parte Interesada]],'Caracterización P. interesadas'!A:F,6,FALSE) -> 2 | C69: Vicepresidencia Comercial | D69: Externa | E69: 1. Tener participación en el mercado 2. Realizar Alianzas o Acuerdos Comerciales | F69: 1. Competencia leal | G69: 1. Investigación de mercados – conocimiento de la competencia 2. Posicionamiento de marca | H69: 1. Plan de Mercadeo (análisis de la competencia) 2. Acuerdos comerciales 3. Participación en ferias y eventos comerciales
A70: Empresas apadrinadas | B70: =VLOOKUP(Tabla1[[#This Row],[Parte Interesada]],'Caracterización P. interesadas'!A:F,6,FALSE) -> 1.5 | C70: Vicepresidencia Administrativa - Departamento administrativo - Gestión Ambiental | D70: Externa | E70: 1.Cumplir con la legislación ambiental aplicable a la naturaleza de su organización 2. Mejora en el desempeño ambiental de la empresa apadrinada | F70: Mejora en la gestión ambiental producto de las asesoría brindada por la corporación | G70: Reuniones con responsables del área de gestión ambiental de las empresas apadrinadas con el fin de brindar el debido asesoramiento | H70: Registros de capacitación, correos electrónicos, actas de reunión
A71: Entes Certificadores | B71: =VLOOKUP(Tabla1[[#This Row],[Parte Interesada]],'Caracterización P. interesadas'!A:F,6,FALSE) -> 1.8 | C71: Oficina de Planeación | D71: Externa | E71: Suministro de información previa y seguimiento a las auditorías en terminos de calidad y oportunidad, cumplimiendo con los requisitos normativos | F71: Mejoramiento continuo del sistema | G71: Comunicación y seguimiento continuo para la coordinación de las auditorías incluyendos pagos, entrega de información previa. Consolidación de los planes de acción garantizando la calidad y oportunidad de los compromisos formulados | H71: Correos de seguimiento de actividades de mejoramiento. Cargue de planes de acción en las plataformas establecidas para cada caso.
A72: Entes de Control | B72: =VLOOKUP(Tabla1[[#This Row],[Parte Interesada]],'Caracterización P. interesadas'!A:F,6,FALSE) -> 4 | C72: Oficina Jurídica | D72: Externa | E72: 1.Respuesta a tiempo de los derechos de petición o solicitudes de información 2.Atención a las auditorías que practique el Ente de Control. | F72: 1.Respuesta de manera puntual de las inquietudes, es decir, que se responda de fondo 2.atención a los requerimientos que se efectúan en virtud de una auditoría | G72: 1.De conformidad con el procedimiento de PQRS, la oficina jurídica realiza el control de tiempos para las respuestas y establece vistos buenos para las mismas 2.Planes de mejoramiento o las acciones correctivas a los hallazgos informados por el Ente de Control | H72: 1. Respuestas dadas a las peticiones presentadas, las cuales deben observar los lineamientos en materia de PQRS dados al interior de la Corporación. 2. Actividades producto de los planes de mejoramiento.
... A80: Grupo Social y Empresarial de la Defensa | B80: =VLOOKUP(Tabla1[[#This Row],[Parte Interesada]],'Caracterización P. interesadas'!A:F,6,FALSE) -> 4.8 | C80: Oficina de Planeación | D80: Externa | E80: Cumplimiento oportuno y con calidad a los informes de resultados y los trámites ante los entes de control y entidades a las que se les debe reportar información. * Estricto cumplimiento a las políticas administrativas establecidas. | F80: Información veraz que permita la toma de decisiones. Lineamientos con las políticas administrativas que permitan el logro de las metas sectoriales. | G80: Generación de informes con base en los lineamientos establecidos Elaboración del Plan Estratégico Institucional con base en la Estrategía Sectorial Planificación Estratégica * Instructivo de avance MIPG sectorial (trimestralmente) *Ficha de avance indicadores PES (trimestral) * Tablero megas *Memorias al congreso *Reporte anual entidades | H80: Informes GSED Plan Estratégico Institucional Plan de Acción Anual
A81: Grupo Social y Empresarial de la Defensa | B81: =VLOOKUP(Tabla1[[#This Row],[Parte Interesada]],'Caracterización P. interesadas'!A:F,6,FALSE) -> 4.8 | C81: Presidencia - Comunicaciones | D81: Externa | E81: Posicionamiento de las empresas del GSED a través de las capacidades ofertadas por cada entidad | G81: Actualización de información que genere noticia Desarrollo de eventos en conjunto Portafolio de servicios Estrategias de comunicación conjuntas | H81: Fotos y videos del evento Tweets y notas en página web y otros medios Acciones derivadas de la estrategia Boletín GSED
A82: Grupo Social y Empresarial de la Defensa | B82: =VLOOKUP(Tabla1[[#This Row],[Parte Interesada]],'Caracterización P. interesadas'!A:F,6,FALSE) -> 4.8 | C82: Vicepresidencia Administrativa - Departamento administrativo - Gestión Ambiental | D82: Externa | E82: Contribución de la Corporación para el cumplimiento de los objetivos del Plan Estratégico Sector Defensa en lo referente a medio ambiente | F82: 1.Mejorar el desempeño ambiental del Sector Defensa 2. Recibir información oportuna, veraz y confiable en lo referente a los requerimientos realizados por la entidad | G82: Informe trimestral de gestión ambiental cuando sea requerido | H82: Comunicados radicados ante la entidad; correos electrónicos
A83: Grupo Social y Empresarial de la Defensa | B83: =VLOOKUP(Tabla1[[#This Row],[Parte Interesada]],'Caracterización P. interesadas'!A:F,6,FALSE) -> 4.8 | C83: Vicepresidencia Administrativa - Departamento de las TICS | D83: Externa | E83: 1.Cumplimiento de la Directiva Ministerial permanente N° 913 del 19 de abril de 2013. 2.Acatamiento de las Resoluciones y circulares emitidas. 3. Emision de respuestas acorde a solicitudes por los medios oficiales solicitados. 4. Cumplimiento de plazos y formatos de proyectos de TI. | G83: 1.Enviar los formatos a TICS MINDEFENSA previo aval del GSED cuando sean requeridos. 2.Asistir a la sustentación en reuniones para los Proyectos TIC´S al CITI 3. Proyectar respuesta a solicitudes con ingerencia de TI. | H83: 1. Plantilla CITI diligenciada 2. Formato de caso de negocio - proyectos TICS diligenciado 3. Presentacion ejecutiva establecida por TICS Mindefensa (previo aval CIAC) 4. Respuesta a documentacion solicitada. (oficios y/o correos)
