Workbook
Name ac: 'Parametrizaciones Advisory'!$C$85:$C$87
Name ACT: 'Parametrizaciones Advisory'!$C$126:$C$128
Name area: 'Parametrizaciones Generales'!$F$17:$F$81
Name AS: 'Parametrizaciones Advisory'!$C$346:$C$347
Name calimp: 'Parametrizaciones Advisory'!$D$274:$E$279
Name calprob: 'Parametrizaciones Advisory'!$D$267:$E$272
Name casuistica: 'Soporte Probabilidad'!$D$17:$D$21
Name cc: 'Parametrizaciones Advisory'!$C$82:$C$83
Name CLASEVENTO: 'Parametrizaciones Advisory'!$F$9:$F$12
Name control: 'Parametrizaciones Advisory'!$C$194:$C$260
Name conv: 'Parametrizaciones Advisory'!$C$159:$F$168
Name dario: #REF!
Name dario: #REF!
Name dario: #REF!
Name dario: #REF!
Name dario: #REF!
Name dario: #REF!
Name dario: #REF!
Name dario: #REF!
Name dario: #REF!
Name DC: 'Parametrizaciones Advisory'!$C$122:$C$124
Name dis: 'Parametrizaciones Advisory'!$C$144:$C$146
Name DISI: 'Parametrizaciones Advisory'!$C$148:$C$150
Name Economico: 'Soporte Impacto'!$C$23:$C$27
Name ej: 'Parametrizaciones Advisory'!$C$134:$C$137
Name even: 'Parametrizaciones Advisory'!$C$300:$C$306
Name evidencia: 'Parametrizaciones Advisory'!$F$85:$F$87
Name FR: 'Parametrizaciones Advisory'!$C$14:$C$28
Name FRE: 'Parametrizaciones Advisory'!$C$118:$C$120
Name FU: 'Parametrizaciones Advisory'!$C$94:$C$96
Name IM: 'Parametrizaciones Advisory'!$C$37:$C$42
Name imp: 'Soporte Impacto'!$C$13:$C$42
Name IMPA: 'MATRIZ DE RIESGOS'!#REF!
Name impa1: 'Parametrizaciones Advisory'!$C$274:$D$279
Name ImpacCiudadano: 'Soporte Impacto'!$C$13:$C$17
Name ImpContinuidad: 'Soporte Impacto'!$C$18:$C$22
Name ImpEconomico: 'Soporte Impacto'!$C$25:$C$27
Name ImpLegal: 'Soporte Impacto'!$C$28:$C$32
Name ImpReputacional: 'Soporte Impacto'!$C$33:$C$37
Name ImpSeguridad: 'Soporte Impacto'!$C$38:$C$42
Name julio: '[1]Parametrizaciones Advisory'!$C$247:$C$253
Name julio2: 'Parametrizaciones Advisory'!$C$30:$C$34
Name julio3: 'Parametrizaciones Advisory'!$C$37:$C$41
Name julio4: '[1]Parametrizaciones Advisory'!$B$38:$G$62
Name LINEA: 'Parametrizaciones Advisory'!$F$26:$F$29
Name MATRIZ: 'Impresión Listados'!$D$16:$AE$55
Name MATRIZ: 'MATRIZ DE RIESGOS'!$D$10:$BH$834
Name matriztabla: 'MATRIZ DE RIESGOS'!#REF!
Name NAT: 'Parametrizaciones Advisory'!$C$98:$C$101
Name NCAL: 'Parametrizaciones Advisory'!$C$309:$D$313
Name NEG: 'Parametrizaciones Advisory'!$C$144:$C$145
Name NRES: 'Parametrizaciones Advisory'!$E$318:$G$344
Name OBJ: 'Parametrizaciones Advisory'!$C$9:$C$12
Name obs: 'Parametrizaciones Advisory'!$C$130:$C$132
Name PAULINA: '[1]Parametrizaciones Advisory'!$C$247:$C$253
Name PER: 'Parametrizaciones Advisory'!$C$103:$C$116
Name PR: 'Parametrizaciones Advisory'!$C$30:$C$35
Name prob: 'Soporte Probabilidad'!$D$12:$D$22
Name prob1: 'Parametrizaciones Advisory'!$C$267:$D$272
Name PROBC: 'Parametrizaciones Advisory'!$F$33:$F$37

Sheet Menu Principal
B7: MENU PRINCIPAL

Sheet Submenu1
B7: I. CADENA DE VALOR

Sheet Submenu2
B7: II. ESTADISTICAS DE RIESGOS

Sheet Submenu3
B7: III. PARAMETRIZACIONES

Sheet Soporte Probabilidad
B6: PROBABILIDAD
B8: Entidad:
B9: Fecha Actualización
B10: Actualizado por:
B11: Calificación | C11: Descripción | D11: Cod
B12: Casi Cierto | C12: Recurrente. Se espera que el evento pueda ocurrir con cierta periodicidad - 1 vez cada mes | D12: =IF(B12="","",CONCATENATE(B12," ","-"," ",C12)) -> Casi Cierto - Recurrente. Se espera que el evento pueda ocurrir con cierta periodicidad - 1 vez cada mes
B13: Casi Cierto | C13: Se espera la ocurrencia del evento en más del 20% de los casos | D13: =IF(B13="","",CONCATENATE(B13," ","-"," ",C13)) -> Casi Cierto - Se espera la ocurrencia del evento en más del 20% de los casos
B14: Probable | C14: Frecuente. Se espera que el evento pueda presentarse 1 vez cada trimestre | D14: =IF(B14="","",CONCATENATE(B14," ","-"," ",C14)) -> Probable - Frecuente. Se espera que el evento pueda presentarse 1 vez cada trimestre
B15: Probable | C15: El evento puede ocurrir entre el 15 y el 20% de los casos | D15: =IF(B15="","",CONCATENATE(B15," ","-"," ",C15)) -> Probable - El evento puede ocurrir entre el 15 y el 20% de los casos
B16: Posible | C16: Posible. Se espera que el evento pueda presentarse 1 vez cada semestre | D16: =IF(B16="","",CONCATENATE(B16," ","-"," ",C16)) -> Posible - Posible. Se espera que el evento pueda presentarse 1 vez cada semestre
B17: Posible | C17: El evento puede ocurrir entre el 10 y 14.99% de los casos | D17: =IF(B17="","",CONCATENATE(B17," ","-"," ",C17)) -> Posible - El evento puede ocurrir entre el 10 y 14.99% de los casos
B18: Raro | C18: Ocasional. Se espera que el evento pueda presentarse 1 vez en el año | D18: =IF(B18="","",CONCATENATE(B18," ","-"," ",C18)) -> Raro - Ocasional. Se espera que el evento pueda presentarse 1 vez en el año
B19: Raro | C19: El evento puede ocurrir entre el 3 y el 9.99% de los casos | D19: =IF(B19="","",CONCATENATE(B19," ","-"," ",C19)) -> Raro - El evento puede ocurrir entre el 3 y el 9.99% de los casos
B20: Improbable | C20: Excepcional. El evento se ha presentado 1 vez en los últimos años | D20: =IF(B20="","",CONCATENATE(B20," ","-"," ",C20)) -> Improbable - Excepcional. El evento se ha presentado 1 vez en los últimos años
B21: Improbable | C21: El evento puede ocurrir en menos del 3% de los casos | D21: =IF(B21="","",CONCATENATE(B21," ","-"," ",C21)) -> Improbable - El evento puede ocurrir en menos del 3% de los casos
B22: Riesgo de Corrupción | C22: Ver soporte de calificación de riesgo de corrupción. | D22: =IF(B22="","",CONCATENATE(B22," ","-"," ",C22)) -> Riesgo de Corrupción - Ver soporte de calificación de riesgo de corrupción.
D23: =IF(B23="","",CONCATENATE(B23," ","-"," ",C23))
D24: =IF(B24="","",CONCATENATE(B24," ","-"," ",C24))
D25: =IF(B25="","",CONCATENATE(B25," ","-"," ",C25))
D26: =IF(B26="","",CONCATENATE(B26," ","-"," ",C26))
D27: =IF(B27="","",CONCATENATE(B27," ","-"," ",C27))
D28: =IF(B28="","",CONCATENATE(B28," ","-"," ",C28))
D29: =IF(B29="","",CONCATENATE(B29," ","-"," ",C29))
D30: =IF(B30="","",CONCATENATE(B30," ","-"," ",C30))
D31: =IF(B31="","",CONCATENATE(B31," ","-"," ",C31))
D32: =IF(B32="","",CONCATENATE(B32," ","-"," ",C32))
D33: =IF(B33="","",CONCATENATE(B33," ","-"," ",C33))
D34: =IF(B34="","",CONCATENATE(B34," ","-"," ",C34))
... D516: =IF(B516="","",CONCATENATE(B516," ","-"," ",C516))

Sheet Soporte Impacto
A6: DEFINICIONES DE IMPACTO
A8: Entidad:
A9: Fecha Actualización
A10: Actualizado por:
A12: Calificación | B12: Descripción | C12: Cod
A13: Crítico | B13: • Clientes: Incremento de más del 40% del número de reclamos formulados por los clientes | C13: =IF(A13="","",CONCATENATE(A13," ","-"," ",B13)) -> Crítico - • Clientes: Incremento de más del 40% del número de reclamos formulados por los clientes
A14: Mayor | B14: • Clientes: Incremento entre el 31% y el 40% del número de reclamos formulados por los Clientes | C14: =IF(A14="","",CONCATENATE(A14," ","-"," ",B14)) -> Mayor - • Clientes: Incremento entre el 31% y el 40% del número de reclamos formulados por los Clientes
A15: Importante | B15: • Clientes: Incremento entre el 21% y el 30% del número de reclamos formulados por los Clientes. | C15: =IF(A15="","",CONCATENATE(A15," ","-"," ",B15)) -> Importante - • Clientes: Incremento entre el 21% y el 30% del número de reclamos formulados por los Clientes.
A16: Menor | B16: • Clientes: Incremento entre el 10% y el 20% del número de reclamos formulados por los Clientes. | C16: =IF(A16="","",CONCATENATE(A16," ","-"," ",B16)) -> Menor - • Clientes: Incremento entre el 10% y el 20% del número de reclamos formulados por los Clientes.
A17: Inferior | B17: • Clientes:No incrementa significativamente el número de reclamos formulados por los Clientes | C17: =IF(A17="","",CONCATENATE(A17," ","-"," ",B17)) -> Inferior - • Clientes:No incrementa significativamente el número de reclamos formulados por los Clientes
A18: Crítico | B18: • Continuidad: Interrupción de las operaciones por más de 72 horas continuas. | C18: =IF(A18="","",CONCATENATE(A18," ","-"," ",B18)) -> Crítico - • Continuidad: Interrupción de las operaciones por más de 72 horas continuas.
A19: Mayor | B19: • Continuidad: Interrupción de las operaciones entre 48 y 72 horas continuas. | C19: =IF(A19="","",CONCATENATE(A19," ","-"," ",B19)) -> Mayor - • Continuidad: Interrupción de las operaciones entre 48 y 72 horas continuas.
A20: Importante | B20: • Continuidad: Interrupción de las operaciones entre 24 y 47 horas continuas | C20: =IF(A20="","",CONCATENATE(A20," ","-"," ",B20)) -> Importante - • Continuidad: Interrupción de las operaciones entre 24 y 47 horas continuas
A21: Menor | B21: • Continuidad: Interrupción de las operaciones menor a 24 horas continuas | C21: =IF(A21="","",CONCATENATE(A21," ","-"," ",B21)) -> Menor - • Continuidad: Interrupción de las operaciones menor a 24 horas continuas
A22: Inferior | B22: • Continuidad: No genera Interrupción de las operaciones | C22: =IF(A22="","",CONCATENATE(A22," ","-"," ",B22)) -> Inferior - • Continuidad: No genera Interrupción de las operaciones
A23: Crítico | B23: • Económica: Pérdida superior a 550 SMLMV | C23: =IF(A23="","",CONCATENATE(A23," ","-"," ",B23)) -> Crítico - • Económica: Pérdida superior a 550 SMLMV
A24: Mayor | B24: • Económica: Pérdida entre 450 - 550 SMLMV | C24: =IF(A24="","",CONCATENATE(A24," ","-"," ",B24)) -> Mayor - • Económica: Pérdida entre 450 - 550 SMLMV
... A52: Inferior | B52: Ambiental: No hay alteración de las condiciones iniciales del medio. | C52: =IF(A52="","",CONCATENATE(A52," ","-"," ",B52)) -> Inferior - Ambiental: No hay alteración de las condiciones iniciales del medio.
C53: =IF(A53="","",CONCATENATE(A53," ","-"," ",B53))
C54: =IF(A54="","",CONCATENATE(A54," ","-"," ",B54))
C55: =IF(A55="","",CONCATENATE(A55," ","-"," ",B55))
C56: =IF(A56="","",CONCATENATE(A56," ","-"," ",B56))
C57: =IF(A57="","",CONCATENATE(A57," ","-"," ",B57))
C58: =IF(A58="","",CONCATENATE(A58," ","-"," ",B58))
C59: =IF(A59="","",CONCATENATE(A59," ","-"," ",B59))
C60: =IF(A60="","",CONCATENATE(A60," ","-"," ",B60))
C61: =IF(A61="","",CONCATENATE(A61," ","-"," ",B61))
C62: =IF(A62="","",CONCATENATE(A62," ","-"," ",B62))
C63: =IF(A63="","",CONCATENATE(A63," ","-"," ",B63))
C64: =IF(A64="","",CONCATENATE(A64," ","-"," ",B64))
... C526: =IF(A526="","",CONCATENATE(A526," ","-"," ",B526))

Sheet Parametrizaciones Generales
XFD1: adveg2012
B6: Entidad:
B7: Fecha Actualización
B8: Actualizado por:
B13: I. UNIDADES DE NEGOCIO Y PROCESOS
B16: # | C16: Dirección / Oficina | D16: Proceso / Subproceso | E16: Objetivo (Caracterización) | F16: Persona a Cargo del Proceso. | G16: Clase de Objetivo | H16: Persona a cargo del Subproceso
B17: 1 | G17: Operativo
B18: .
B19: .
B20: .
B21: .
B22: .
B23: .
B24: .
B25: .
B26: .
B27: .

Sheet Parametrizaciones Advisory
B7: PARAMETRIZACIONES GENERALES DEL CONSULTOR
B9: I. OBJETIVOS | C9: Operativo | E9: CLASIFICACION DEL EVENTO | F9: Ejecución y admon de procesos
C10: Financiero | F10: Fraude Interno
C11: Estratégico | F11: Fraude Externo
C12: Cumplimiento | F12: Relaciones Laborales
F13: Usuarios, productos y prácticas
B14: II. FACTORES DE RIESGO | C14: Ambientales | F14: Daños a Activos Fisicos
C15: Comunicación | F15: Fallas Tecnologicas
C16: Diseño del proceso
C17: Económicos y financieros
C18: Estrategia
C19: Financieros
C20: Infraestructura
C21: Interacción con otros procesos
C22: Políticos y legales
C23: Procedimientos asociados
C24: Sociales y culturales
C25: Talento Humano
C26: Tecnología | E26: LINEA OPERATIVA | F26: RPM
C27: Tecnológicos
C28: Transversalidad | F28: BEPS
F29: AI
B30: III. PROBABILIDAD | C30: Casi cierto
C31: Probable
C32: Posible
C33: Raro | E33: III. PROBABILIDAD RIESGO DE CORRUPCION | F33: Casi Seguro - Se ha presentado mas de una vez al Año.
C34: Improbable | F34: Probable - Se presento una vez en el Ultimo Año
C35: Improbable | F35: Posible - Se presento una vez en los ultimos 2 años.
F36: Rara Vez - Se presento una vez en los Ultimos 5 Años.
B37: IV. IMPACTO | C37: Critico | F37: Improbable - No se ha presentado en los Últimos 5 Años.
C38: Mayor
C39: Importante
C40: Menor
C41: Inferior
C42: Inferior
B44: V. SEVERIDAD DEL RIESGO INHERENTE | C44: Muy alto
C45: Alto
C46: Medio
C47: Bajo
C48: Nulo
...

Sheet MATRIZ DE RIESGOS
E2: MATRIZ DE GESTIÓN DE RIESGOS DE CORRUPCIÓN, LA/FT, FRAUDE y SOBORNO | J2: Código: ANEXO_10_MAN-OPLAI-002
J4: Versión : 1
J5: Fecha de edición : 12 de MAYO del 2026
F9: Tipología del riesgo | AV9: Solidez del Conjunto de Controles
B10: Proceso (Gerencial / Misional / Apoyo) | C10: Nombre del Proceso | D10: Riesgo # | E10: Riesgos del Proceso | F10: RC | G10: RLAFT | H10: RS | I10: RF | J10: Causas, Fallas y/o Peligros | K10: Factor de riesgo | L10: Probabilidad | M10: Riesgo de Corrupción | N10: Soporte Calificación Probabilidad | O10: Impacto | P10: Riesgo de Corrupción | Q10: Soporte Calificación Impacto | W10: Severidad del Riesgo Inherente | X10: Respuesta / Tratamiento a los riesgos | Y10: Ctrl # | Z10: Descripción del Control Asociado a la Causa o Falla Quien lo Hace / Periodicidad / Que Hace / Como lo Hace / Que pasa con las Excepciones y Evidencia. | AA10: Actividades que compone el control | AC10: Tipo de Control | AD10: Controles para cada riesgo | AG10: Naturaleza del Control | AH10: Aplicación donde se ejecuta el Control | AI10: Frecuencia del Control | AK10: Documentación del Control | AL10: Referencia Documental | AM10: Evidencia que Compone el control | AN10: Diseño del Control | AO10: Actividades del Control Susceptibles a Seguimiento | AP10: Plan de Acción frente al diseño del control | AQ10: AMENAZAS | AR10: Ejecución del Control | AS10: Solidez Individual del Control | AT10: NO USAR | AU10: NO USAR | AV10: Solidez del Conjunto de Controles | AW10: Disminuye la Probabilidad | AX10: Disminuye el Impacto | AY10: Concatenar | BF10: Calif Total | BG10: Calificación Inherente Impacto | BH10: Calificación Inherente Probabilidad | BI10: Total Inherente | BJ10: NUEVA: COD RESIDUAL | BK10: NUEVA Disminución de la Impacto | BL10: NUEVA Disminución del Probabilidad | BM10: Disminución del Impacto | BN10: Disminución de la probabilidad | BO10: CALIF. DEFINITIVAPROBABILIDAD | BP10: CALIF. DEFINITIVA IMPACTO | BQ10: Total Residual | BR10: Residual | BS10: Residual | BT10: Concatenar | BU10: Total Inherente para grafico | BV10: Total Residual para grafico | BW10: Riesgo # | BX10: Descripción Riesgo | BY10: Riesgo Residual
Q11: Impacto Económico | R11: Impacto Legal | S11: Impacto Seguridad de la Información | T11: Impacto Continuidad de Negocio | U11: Impacto Reputacional | V11: Impacto Clientes | AD11: Detectivo | AE11: Correctivo | AF11: Preventivo | AI11: Periodicidad | AJ11: Funcionalidad | AY11: Riesgo Inherente | AZ11: Cal Así. | BA11: Cal Tipo Ctrl | BB11: Cal Natur. | BC11: Cal Frec. Ctrl Func | BD11: Cal Docum. | BE11: Cal. Evid | BF11: Cal | BR11: Imp | BS11: Prob | BT11: Calif. Riesg
B12: Gerencial | C12: Seguimiento y Control | D12: RC1 | E12: Posibilidad de recibir o solicitar cualquier dádiva o beneficio a nombre propio o de terceros con el fin de manipular u omitir información de los resultados de las auditorías internas y de segunda parte, evaluaciones y seguimientos para direccionar la toma de decisiones. | F12: Si | G12: No | H12: Si | I12: Si | J12: Vincular personal no confiable en las dependencias que tienen a su cargo ejecutar auditorías | K12: Talento Humano | L12: Improbable | M12: =IF(F12="","",IF(F12="SI","Usted seleccionó SI en tipologia de riesgo RC (riesgo de corrupción). Oprima para diligenciar el formato adjunto.","No Aplica")) -> Usted seleccionó SI en tipologia de riesgo RC (riesgo de corrupción). Oprima para diligenciar el formato adjunto. | N12: Improbable - El evento puede ocurrir en menos del 3% de los casos | O12: Mayor | Q12: Inferior - • Económico: Pérdidas inferiores o igual a 100 SLMLV | R12: Importante - • Legal: Llamados de atención o requerimientos escritos realizados por los entes reguladores por desviaciones al cumplimiento de normas legales. | S12: Inferior - • Seguridad de la información: No afecta la oportunidad de la información. | T12: Inferior - • Continuidad: No genera Interrupción de las operaciones | U12: Inferior - • Reputacional: No afecta la imagen de la entidad con los clientes o grupos de interés | V12: Menor - • Clientes: Incremento entre el 10% y el 20% del número de reclamos formulados por los Clientes. | W12: =IF(B12="","",IF(ISERROR(VLOOKUP(CONCATENATE(L12,O12),ri,4,0)),"",VLOOKUP(CONCATENATE(L12,O12),ri,4,0))) -> Alto | X12: Reducir | Y12: C1 | Z12: Información anonimizada | AA12: Adecuadas | AC12: Preventivo | AD12: El proceso de calificación y evaluación en cada etapa (pruebas psicotécnicas, de conocimiento, entrevistas) actúa como un mecanismo para identificar si un candidato no cumple con los estándares mínimos requeridos. La detección de resultados por debajo de la mínima calificación establecida permite frenar el proceso de continuidad del candidato en etapas tempranas. | AE12: Si en alguna etapa se encuentran deficiencias en el proceso o en la evaluación, se pueden realizar ajustes (por ejemplo, reconsideración de criterios o actualización de metodologías de evaluación). La terminación del proceso de selección de un candidato que no alcanza la calificación mínima asegura que el equipo final cumpla con los estándares y las necesidades de la organización. | AF12: La validación inicial del requerimiento de personal y de los perfiles (competencias, educación, experiencia, etc.) para asegurarse de que los candidatos cumplan con los requisitos necesarios desde el inicio. La realización de pruebas psicotécnicas, de conocimiento y entrevistas previene la selección de candidatos que no cumplan con los estándares establecidos. La visita domiciliaria (en caso de cargos críticos) asegura que se realice una verificación exhaustiva, minimizando riesgos antes de la contratación | AG12: Manual | AI12: Por demanda | AJ12: Adecuado | AK12: Documentado | AL12: 1. Procedimiento selección, vinculación, induccion, evaluación, promoción personal de planta. | AM12: Completa | AN12: =IF(B12="","",IF(BF12>=76,"Fuerte",IF(BF12>=51,"Moderado","Débil"))) -> Fuerte | AO12: =IF(OR(AA12="insuficientes",AA12="No adecuadas",AJ12="Inadecuado",AK12="No documentado",AM12="Incompleta",AM12="No existe"),"Si","No") -> No | AP12: =IF(AN12="","",IF(B12="","",IF(OR(AN12="Moderado",AN12="Débil"),"Si","No"))) -> No | AR12: Fuerte | AS12: =IF(AN12="","",IF(AND(AN12="Fuerte",AR12="Fuerte"),"Fuerte",IF(AND(AN12="Fuerte",AR12="Moderado"),"Moderado",IF(AND(AN12="Fuerte",AR12="Débil"),"Débil",IF(AND(AN12="Moderado",AR12="Fuerte"),"Moderado",IF(AND(AN12="Moderado",AR12="Moderado"),"Moderado","Débil")))))) -> Fuerte | AV12: =IF(D12="","",IF(D12=D11,"",IF(D12=D11,"",VLOOKUP(D12,solcon,11,0)))) -> Moderado | AW12: Fuerte | AX12: Fuerte | AY12: =CONCATENATE(D12,O12,L12) -> RC1Mayor Improbable | AZ12: =IF(B12="","",IF(AA12="Adecuadas",30,IF(AA12="Insuficientes",10,0))) -> 30 | BA12: =IF(B12="","",IF(AC12="Preventivo",15,IF(AC12="Detectivo",10,IF(AC12="Correctivo",5,0)))) -> 15 | BB12: =IF(B12="","",IF(AG12="Automático",10,IF(AG12="Dependiente de T.I.",7,IF(AG12="Manual",5,0)))) -> 5 | BC12: =IF(B12="","",IF(AJ12="Adecuado",20,0)) -> 20 | BD12: =IF(B12="","",IF(AK12="Documentado",10,0)) -> 10 | BE12: =IF(B12="","",IF(AM12="Completa",15,IF(AM12="Incompleta",10,0))) -> 15 | BF12: =IF(B12="","",SUM(AZ12:BE12)) -> 95 | BG12: =IF(B12="","",IF(ISERROR(VLOOKUP(O12,calprob,2,0)),"",VLOOKUP(O12,calprob,2,0))) -> 4 | BH12: =IF(B12="","",IF(ISERROR(VLOOKUP(L12,calimp,2,0)),"",VLOOKUP(L12,calimp,2,0))) -> 1 | BI12: =IF(BH12="","",+BH12*BG12) -> 4 | BJ12: =CONCATENATE(AV12,AW12,AX12) -> ModeradoFuerteFuerte | BK12: =IF(B12="","",VLOOKUP(BJ12,NRES,3,0)) -> -1 | BL12: =IF(B12="","",VLOOKUP(BJ12,NRES,2,0)) -> -1 | BM12: =(IF(ISERROR(VLOOKUP(CONCATENATE(AV12,AW12,AX12),residual,2,0)),"",VLOOKUP(CONCATENATE(AV12,AW12,AX12),residual,2,0))) | BN12: =IF(ISERROR(VLOOKUP(CONCATENATE(AV12,AW12,AX12),residual,3,0)),"",VLOOKUP(CONCATENATE(AV12,AW12,AX12),residual,3,0)) | BO12: =IF(B12="","",IF(+BH12+BL12<0,0,+BH12+BL12)) -> 0 | BP12: =IF(B12="","",IF(+BG12+BK12<0,0,+BG12+BK12)) -> 3 | BR12: =IF(B12="","",IF(ISERROR(VLOOKUP(BO12,impa1,2,0)),"",VLOOKUP(BO12,impa1,2,0))) -> Improbable | BS12: =IF(B12="","",IF(ISERROR(VLOOKUP(BP12,prob1,2,0)),"",VLOOKUP(BP12,prob1,2,0))) -> Importante | BT12: =IF(BH12="","",CONCATENATE(D12,BS12,BR12)) -> RC1ImportanteImprobable | BU12: =+W12 -> Alto | BV12: =+BY12 -> Moderado | BW12: =IF(F12="Si",D12,"") -> RC1 | BX12: =IF(F12="Si",E12,"") -> Posibilidad de recibir o solicitar cualquier dádiva o beneficio a nombre propio o de terceros con el fin de manipular u omitir información de los resultados de las auditorías internas y de segunda parte, evaluaciones y seguimientos para direccionar la toma de decisiones. | BY12: =IF(B12="","",IF(D12=D11,"",IF(ISERROR(VLOOKUP(CONCATENATE(BR12,BS12),ri,4,0)),"",VLOOKUP(CONCATENATE(BR12,BS12),ri,4,0)))) -> Moderado
B13: Gerencial | C13: Seguimiento y Control | D13: RC1 | E13: Posibilidad de recibir o solicitar cualquier dádiva o beneficio a nombre propio o de terceros con el fin de manipular u omitir información de los resultados de las auditorías internas y de segunda parte, evaluaciones y seguimientos para direccionar la toma de decisiones. | F13: Si | G13: No | H13: Si | I13: Si | J13: Ausencia de mecanismos de prevención y control | K13: Talento Humano | W13: =IF(B13="","",IF(ISERROR(VLOOKUP(CONCATENATE(L13,O13),ri,4,0)),"",VLOOKUP(CONCATENATE(L13,O13),ri,4,0))) | Y13: C2 | AA13: Adecuadas | AG13: Manual | AI13: Por demanda | AJ13: Adecuado | AK13: No documentado | AM13: Completa | AN13: =IF(B13="","",IF(BF13>=76,"Fuerte",IF(BF13>=51,"Moderado","Débil"))) -> Moderado | AO13: =IF(OR(AA13="insuficientes",AA13="No adecuadas",AJ13="Inadecuado",AK13="No documentado",AM13="Incompleta",AM13="No existe"),"Si","No") -> Si | AP13: =IF(AN13="","",IF(B13="","",IF(OR(AN13="Moderado",AN13="Débil"),"Si","No"))) -> Si | AR13: Fuerte | AS13: =IF(AN13="","",IF(AND(AN13="Fuerte",AR13="Fuerte"),"Fuerte",IF(AND(AN13="Fuerte",AR13="Moderado"),"Moderado",IF(AND(AN13="Fuerte",AR13="Débil"),"Débil",IF(AND(AN13="Moderado",AR13="Fuerte"),"Moderado",IF(AND(AN13="Moderado",AR13="Moderado"),"Moderado","Débil")))))) -> Moderado | AV13: =IF(D13="","",IF(D13=D12,"",IF(D13=D12,"",VLOOKUP(D13,solcon,11,0)))) | AW13: Fuerte | AX13: Moderado | AY13: =CONCATENATE(D13,O13,L13) -> RC1 | AZ13: =IF(B13="","",IF(AA13="Adecuadas",30,IF(AA13="Insuficientes",10,0))) -> 30 | BA13: =IF(B13="","",IF(AC13="Preventivo",15,IF(AC13="Detectivo",10,IF(AC13="Correctivo",5,0)))) -> 0 | BB13: =IF(B13="","",IF(AG13="Automático",10,IF(AG13="Dependiente de T.I.",7,IF(AG13="Manual",5,0)))) -> 5 | BC13: =IF(B13="","",IF(AJ13="Adecuado",20,0)) -> 20 | BD13: =IF(B13="","",IF(AK13="Documentado",10,0)) -> 0 | BE13: =IF(B13="","",IF(AM13="Completa",15,IF(AM13="Incompleta",10,0))) -> 15 | BF13: =IF(B13="","",SUM(AZ13:BE13)) -> 70 | BG13: =IF(B13="","",IF(ISERROR(VLOOKUP(O13,calprob,2,0)),"",VLOOKUP(O13,calprob,2,0))) | BH13: =IF(B13="","",IF(ISERROR(VLOOKUP(L13,calimp,2,0)),"",VLOOKUP(L13,calimp,2,0))) | BI13: =IF(BH13="","",+BH13*BG13) | BJ13: =CONCATENATE(AV13,AW13,AX13) -> FuerteModerado | BK13: =IF(B13="","",VLOOKUP(BJ13,NRES,3,0)) -> #N/A | BL13: =IF(B13="","",VLOOKUP(BJ13,NRES,2,0)) -> #N/A | BM13: =(IF(ISERROR(VLOOKUP(CONCATENATE(AV13,AW13,AX13),residual,2,0)),"",VLOOKUP(CONCATENATE(AV13,AW13,AX13),residual,2,0))) | BN13: =IF(ISERROR(VLOOKUP(CONCATENATE(AV13,AW13,AX13),residual,3,0)),"",VLOOKUP(CONCATENATE(AV13,AW13,AX13),residual,3,0)) | BO13: =IF(B13="","",IF(+BH13+BL13<0,0,+BH13+BL13)) -> #VALUE! | BP13: =IF(B13="","",IF(+BG13+BK13<0,0,+BG13+BK13)) -> #VALUE! | BR13: =IF(B13="","",IF(ISERROR(VLOOKUP(BO13,impa1,2,0)),"",VLOOKUP(BO13,impa1,2,0))) | BS13: =IF(B13="","",IF(ISERROR(VLOOKUP(BP13,prob1,2,0)),"",VLOOKUP(BP13,prob1,2,0))) | BT13: =IF(BH13="","",CONCATENATE(D13,BS13,BR13)) | BU13: =+W13 | BV13: =+BY13 | BW13: =IF(F13="Si",D13,"") -> RC1 | BX13: =IF(F13="Si",E13,"") -> Posibilidad de recibir o solicitar cualquier dádiva o beneficio a nombre propio o de terceros con el fin de manipular u omitir información de los resultados de las auditorías internas y de segunda parte, evaluaciones y seguimientos para direccionar la toma de decisiones. | BY13: =IF(B13="","",IF(D13=D12,"",IF(ISERROR(VLOOKUP(CONCATENATE(BR13,BS13),ri,4,0)),"",VLOOKUP(CONCATENATE(BR13,BS13),ri,4,0))))
B14: Gerencial | C14: Seguimiento y Control | D14: RC1 | E14: Posibilidad de recibir o solicitar cualquier dádiva o beneficio a nombre propio o de terceros con el fin de manipular u omitir información de los resultados de las auditorías internas y de segunda parte, evaluaciones y seguimientos para direccionar la toma de decisiones. | F14: Si | G14: No | H14: Si | I14: Si | J14: Fallas en la validación de información de auditoría a proveedores | K14: Procedimientos asociados | Y14: C22 | AA14: Adecuadas | AG14: Manual | AI14: Por demanda | AJ14: Adecuado | AK14: No documentado | AM14: Completa | AN14: =IF(B14="","",IF(BF14>=76,"Fuerte",IF(BF14>=51,"Moderado","Débil"))) -> Moderado | AO14: =IF(OR(AA14="insuficientes",AA14="No adecuadas",AJ14="Inadecuado",AK14="No documentado",AM14="Incompleta",AM14="No existe"),"Si","No") -> Si | AP14: =IF(AN14="","",IF(B14="","",IF(OR(AN14="Moderado",AN14="Débil"),"Si","No"))) -> Si | AR14: Fuerte | AS14: =IF(AN14="","",IF(AND(AN14="Fuerte",AR14="Fuerte"),"Fuerte",IF(AND(AN14="Fuerte",AR14="Moderado"),"Moderado",IF(AND(AN14="Fuerte",AR14="Débil"),"Débil",IF(AND(AN14="Moderado",AR14="Fuerte"),"Moderado",IF(AND(AN14="Moderado",AR14="Moderado"),"Moderado","Débil")))))) -> Moderado | AW14: Fuerte | AX14: Moderado | AY14: =CONCATENATE(D14,O14,L14) -> RC1 | AZ14: =IF(B14="","",IF(AA14="Adecuadas",30,IF(AA14="Insuficientes",10,0))) -> 30 | BA14: =IF(B14="","",IF(AC14="Preventivo",15,IF(AC14="Detectivo",10,IF(AC14="Correctivo",5,0)))) -> 0 | BB14: =IF(B14="","",IF(AG14="Automático",10,IF(AG14="Dependiente de T.I.",7,IF(AG14="Manual",5,0)))) -> 5 | BC14: =IF(B14="","",IF(AJ14="Adecuado",20,0)) -> 20 | BD14: =IF(B14="","",IF(AK14="Documentado",10,0)) -> 0 | BE14: =IF(B14="","",IF(AM14="Completa",15,IF(AM14="Incompleta",10,0))) -> 15 | BF14: =IF(B14="","",SUM(AZ14:BE14)) -> 70 | BJ14: =CONCATENATE(AV14,AW14,AX14) -> FuerteModerado | BK14: =IF(B14="","",VLOOKUP(BJ14,NRES,3,0)) -> #N/A | BL14: =IF(B14="","",VLOOKUP(BJ14,NRES,2,0)) -> #N/A | BW14: =IF(F14="Si",D14,"") -> RC1 | BX14: =IF(F14="Si",E14,"") -> Posibilidad de recibir o solicitar cualquier dádiva o beneficio a nombre propio o de terceros con el fin de manipular u omitir información de los resultados de las auditorías internas y de segunda parte, evaluaciones y seguimientos para direccionar la toma de decisiones.
B15: Gerencial | C15: Seguimiento y Control | D15: RC1 | E15: Posibilidad de recibir o solicitar cualquier dádiva o beneficio a nombre propio o de terceros con el fin de manipular u omitir información de los resultados de las auditorías internas y de segunda parte, evaluaciones y seguimientos para direccionar la toma de decisiones. | F15: Si | G15: No | H15: Si | I15: Si | J15: Falta de valores del personal auditor | K15: Talento Humano | W15: =IF(B15="","",IF(ISERROR(VLOOKUP(CONCATENATE(L15,O15),ri,4,0)),"",VLOOKUP(CONCATENATE(L15,O15),ri,4,0))) | Y15: C3 | AA15: Adecuadas | AC15: Preventivo | AD15: Monitoreo de asistencia y participación, mediante los registros en la plataforma LMS, listas físicas y virtuales permitiendo detectar si todo los funcionarios han participado en las capacitaciones programadas, permitiendo una evaluación de efectividad al revisar el impacto de las capacitaciones mediante cuestionarios y análisis de conductas posteriores para identificar áreas donde los valores y principios no se están interiorizando adecuadamente e identificando riesgos recurrentes al analizar patrones en las áreas de mayor vulnerabilidad a hechos ilícitos ayudando a detectar fallas sistémicas o falta de comprensión en los funcionarios. | AE15: Si las capacitaciones no están logrando prevenir ciertos riesgos como corrupción, soborno o fraude, narcóticos, lavado de activos, financiación al terrorismo, entre otros, revisar, ajustar y mejorar el contenido de os programas para que sean más específicos y efectivos, así como capacitaciones adicionales, en caso de identificar deficiencias en ciertas áreas o entre determinados grupos programando sesiones específicas y complementarias. Establecer protocolos inmediatos para corregir cualquier caso de gestión de incidentes, identificado hechos ilícitos y reforzar las capacitaciones donde sea necesario. | AF15: Programación constante de capacitaciones, garantizando un cronograma regular de sensibilizaciones para mantener el enfoque preventivo y actualizar a los funcionarios frente a nuevas amenazas o cambios legales, promoviendo una cultura ética, reforzando los valores corporativos a través de campañas internas y actividades complementarias que fomenten el compromiso con el Código de Ética e Integridad, el Programa de Transparencia y Ética Empresarial, SARLAFT y el de Operador Económico Autorizado. Automatización del seguimiento, al incorporar herramientas digitales que permitan controlar el cumplimiento de las capacitaciones y evaluar su impacto en tiempo real. | AG15: Manual | AI15: Anual | AJ15: Adecuado | AK15: Documentado | AL15: Plan Institucional de Capacitación | AM15: Completa | AN15: =IF(B15="","",IF(BF15>=76,"Fuerte",IF(BF15>=51,"Moderado","Débil"))) -> Fuerte | AO15: =IF(OR(AA15="insuficientes",AA15="No adecuadas",AJ15="Inadecuado",AK15="No documentado",AM15="Incompleta",AM15="No existe"),"Si","No") -> No | AP15: =IF(AN15="","",IF(B15="","",IF(OR(AN15="Moderado",AN15="Débil"),"Si","No"))) -> No | AR15: Fuerte | AS15: =IF(AN15="","",IF(AND(AN15="Fuerte",AR15="Fuerte"),"Fuerte",IF(AND(AN15="Fuerte",AR15="Moderado"),"Moderado",IF(AND(AN15="Fuerte",AR15="Débil"),"Débil",IF(AND(AN15="Moderado",AR15="Fuerte"),"Moderado",IF(AND(AN15="Moderado",AR15="Moderado"),"Moderado","Débil")))))) -> Fuerte | AV15: =IF(D15="","",IF(D15=D13,"",IF(D15=D13,"",VLOOKUP(D15,solcon,11,0)))) | AW15: Fuerte | AX15: Moderado | AY15: =CONCATENATE(D15,O15,L15) -> RC1 | AZ15: =IF(B15="","",IF(AA15="Adecuadas",30,IF(AA15="Insuficientes",10,0))) -> 30 | BA15: =IF(B15="","",IF(AC15="Preventivo",15,IF(AC15="Detectivo",10,IF(AC15="Correctivo",5,0)))) -> 15 | BB15: =IF(B15="","",IF(AG15="Automático",10,IF(AG15="Dependiente de T.I.",7,IF(AG15="Manual",5,0)))) -> 5 | BC15: =IF(B15="","",IF(AJ15="Adecuado",20,0)) -> 20 | BD15: =IF(B15="","",IF(AK15="Documentado",10,0)) -> 10 | BE15: =IF(B15="","",IF(AM15="Completa",15,IF(AM15="Incompleta",10,0))) -> 15 | BF15: =IF(B15="","",SUM(AZ15:BE15)) -> 95 | BG15: =IF(B15="","",IF(ISERROR(VLOOKUP(O15,calprob,2,0)),"",VLOOKUP(O15,calprob,2,0))) | BH15: =IF(B15="","",IF(ISERROR(VLOOKUP(L15,calimp,2,0)),"",VLOOKUP(L15,calimp,2,0))) | BI15: =IF(BH15="","",+BH15*BG15) | BJ15: =CONCATENATE(AV15,AW15,AX15) -> FuerteModerado | BK15: =IF(B15="","",VLOOKUP(BJ15,NRES,3,0)) -> #N/A | BL15: =IF(B15="","",VLOOKUP(BJ15,NRES,2,0)) -> #N/A | BM15: =(IF(ISERROR(VLOOKUP(CONCATENATE(AV15,AW15,AX15),residual,2,0)),"",VLOOKUP(CONCATENATE(AV15,AW15,AX15),residual,2,0))) | BN15: =IF(ISERROR(VLOOKUP(CONCATENATE(AV15,AW15,AX15),residual,3,0)),"",VLOOKUP(CONCATENATE(AV15,AW15,AX15),residual,3,0)) | BO15: =IF(B15="","",IF(+BH15+BL15<0,0,+BH15+BL15)) -> #VALUE! | BP15: =IF(B15="","",IF(+BG15+BK15<0,0,+BG15+BK15)) -> #VALUE! | BR15: =IF(B15="","",IF(ISERROR(VLOOKUP(BO15,impa1,2,0)),"",VLOOKUP(BO15,impa1,2,0))) | BS15: =IF(B15="","",IF(ISERROR(VLOOKUP(BP15,prob1,2,0)),"",VLOOKUP(BP15,prob1,2,0))) | BT15: =IF(BH15="","",CONCATENATE(D15,BS15,BR15)) | BU15: =+W15 | BV15: =+BY15 | BW15: =IF(F15="Si",D15,"") -> RC1 | BX15: =IF(F15="Si",E15,"") -> Posibilidad de recibir o solicitar cualquier dádiva o beneficio a nombre propio o de terceros con el fin de manipular u omitir información de los resultados de las auditorías internas y de segunda parte, evaluaciones y seguimientos para direccionar la toma de decisiones. | BY15: =IF(B15="","",IF(D15=D13,"",IF(ISERROR(VLOOKUP(CONCATENATE(BR15,BS15),ri,4,0)),"",VLOOKUP(CONCATENATE(BR15,BS15),ri,4,0))))
B16: Apoyo | C16: Gestión Administrativa / Gestión TIC's | D16: RC2 | E16: Posibilidad de afectación económica y reputacional por demandas, sanciones por los grupos de valor por la falsificación o manipulación intencionada de la información para beneficio propio o de terceros | F16: Si | G16: No | H16: No | I16: Si | J16: Sustracción de documentación del archivo central | K16: Procedimientos asociados | L16: Raro | M16: =IF(F16="","",IF(F16="SI","Usted seleccionó SI en tipologia de riesgo RC (riesgo de corrupción). Oprima para diligenciar el formato adjunto.","No Aplica")) -> Usted seleccionó SI en tipologia de riesgo RC (riesgo de corrupción). Oprima para diligenciar el formato adjunto. | N16: Raro - Ocasional. Se espera que el evento pueda presentarse 1 vez en el año | O16: Mayor | P16: =IF(F16="","",IF(F16="SI","Usted seleccionó SI en tipologia de riesgo RC (riesgo de corrupción). Oprima para diligenciar el formato adjunto.","No Aplica")) -> Usted seleccionó SI en tipologia de riesgo RC (riesgo de corrupción). Oprima para diligenciar el formato adjunto. | Q16: Inferior - • Económico: Pérdidas inferiores o igual a 100 SLMLV | R16: Mayor - • Legal: Sanciones económicas por incumplimiento de las normas establecidas por los entes reguladores. Apertura de procesos sancionatorios, disciplinarios o fiscales. | S16: Mayor - • Seguridad de la Información: Pérdida de información crítica de la CIAC o de terceros que no se pueda recuperar fácilmente, ocasionando retrasos en las labores de las áreas, respuesta a los entes reguladores y a los clientes | T16: Inferior - • Continuidad: No genera Interrupción de las operaciones | U16: Inferior - • Reputacional: No afecta la imagen de la entidad con los clientes o grupos de interés | V16: Inferior - • Clientes: No incrementa significativamente el número de reclamos formulados por los Clientes | W16: =IF(B16="","",IF(ISERROR(VLOOKUP(CONCATENATE(L16,O16),ri,4,0)),"",VLOOKUP(CONCATENATE(L16,O16),ri,4,0))) -> Alto | X16: Reducir | Y16: C4 | AA16: Adecuadas | AC16: Preventivo | AD16: Acceso No Autorizado: Si el encargado del archivo no sigue adecuadamente el control de llaves, puede haber un riesgo de acceso no autorizado a la documentación, lo que podría resultar en la pérdida o alteración de información sensible. Falta de Registro de Accesos: Si no se lleva un registro adecuado de quién accede al archivo y cuándo, puede haber dificultades para rastrear cualquier incidente relacionado con la documentación. Inexactitud en el Control de Llaves: Si el registro de control de llaves no se actualiza correctamente, puede haber confusiones sobre quién tiene acceso al archivo, lo que podría comprometer la seguridad de la documentación. | AE16: Retrasos en la Recuperación de Documentos: Si el encargado del archivo no está disponible o no sigue los procedimientos adecuados, puede haber retrasos en la recuperación de documentos necesarios para la operación, afectando la eficiencia de la organización. Falta de Acciones Correctivas ante Incidencias: Si se identifican problemas relacionados con el acceso o la custodia de la documentación y no se toman acciones correctivas, puede haber una repetición de los mismos problemas en el futuro. Inadecuada Comunicación sobre Incidencias: Si no se comunica adecuadamente cualquier incidente relacionado con el acceso a la documentación, puede haber malentendidos que compliquen la resolución de problemas. | AF16: Falta de Protocolo para la Custodia de Documentos: Si no se establece un protocolo claro para la custodia y acceso a la documentación, puede haber inconsistencias en la aplicación de los procedimientos, aumentando el riesgo de errores. Insuficiente Capacitación del Personal: Si el encargado del archivo no está adecuadamente capacitado en los procedimientos de custodia y control de llaves, puede no realizar correctamente su trabajo, lo que podría comprometer la seguridad de la documentación. Comunicación Deficiente sobre Responsabilidades: Si no hay una buena comunicación sobre las responsabilidades del encargado del archivo y otros colaboradores, puede haber confusiones que afecten la gestión de la documentación. | AG16: Manual | AI16: Permanente | AJ16: Adecuado | AK16: Documentado | AL16: Control de llaves | AM16: Completa | AN16: =IF(B16="","",IF(BF16>=76,"Fuerte",IF(BF16>=51,"Moderado","Débil"))) -> Fuerte | AO16: =IF(OR(AA16="insuficientes",AA16="No adecuadas",AJ16="Inadecuado",AK16="No documentado",AM16="Incompleta",AM16="No existe"),"Si","No") -> No | AP16: =IF(AN16="","",IF(B16="","",IF(OR(AN16="Moderado",AN16="Débil"),"Si","No"))) -> No | AR16: Fuerte | AS16: =IF(AN16="","",IF(AND(AN16="Fuerte",AR16="Fuerte"),"Fuerte",IF(AND(AN16="Fuerte",AR16="Moderado"),"Moderado",IF(AND(AN16="Fuerte",AR16="Débil"),"Débil",IF(AND(AN16="Moderado",AR16="Fuerte"),"Moderado",IF(AND(AN16="Moderado",AR16="Moderado"),"Moderado","Débil")))))) -> Fuerte | AV16: =IF(D16="","",IF(D16=D15,"",IF(D16=D15,"",VLOOKUP(D16,solcon,11,0)))) -> Fuerte | AW16: Moderado | AX16: Moderado | AY16: =CONCATENATE(D16,O16,L16) -> RC2Mayor Raro | AZ16: =IF(B16="","",IF(AA16="Adecuadas",30,IF(AA16="Insuficientes",10,0))) -> 30 | BA16: =IF(B16="","",IF(AC16="Preventivo",15,IF(AC16="Detectivo",10,IF(AC16="Correctivo",5,0)))) -> 15 | BB16: =IF(B16="","",IF(AG16="Automático",10,IF(AG16="Dependiente de T.I.",7,IF(AG16="Manual",5,0)))) -> 5 | BC16: =IF(B16="","",IF(AJ16="Adecuado",20,0)) -> 20 | BD16: =IF(B16="","",IF(AK16="Documentado",10,0)) -> 10 | BE16: =IF(B16="","",IF(AM16="Completa",15,IF(AM16="Incompleta",10,0))) -> 15 | BF16: =IF(B16="","",SUM(AZ16:BE16)) -> 95 | BG16: =IF(B16="","",IF(ISERROR(VLOOKUP(O16,calprob,2,0)),"",VLOOKUP(O16,calprob,2,0))) -> 4 | BH16: =IF(B16="","",IF(ISERROR(VLOOKUP(L16,calimp,2,0)),"",VLOOKUP(L16,calimp,2,0))) -> 2 | BI16: =IF(BH16="","",+BH16*BG16) -> 8 | BJ16: =CONCATENATE(AV16,AW16,AX16) -> FuerteModeradoModerado | BK16: =IF(B16="","",VLOOKUP(BJ16,NRES,3,0)) -> -1 | BL16: =IF(B16="","",VLOOKUP(BJ16,NRES,2,0)) -> -1 | BM16: =(IF(ISERROR(VLOOKUP(CONCATENATE(AV16,AW16,AX16),residual,2,0)),"",VLOOKUP(CONCATENATE(AV16,AW16,AX16),residual,2,0))) | BN16: =IF(ISERROR(VLOOKUP(CONCATENATE(AV16,AW16,AX16),residual,3,0)),"",VLOOKUP(CONCATENATE(AV16,AW16,AX16),residual,3,0)) | BO16: =IF(B16="","",IF(+BH16+BL16<0,0,+BH16+BL16)) -> 1 | BP16: =IF(B16="","",IF(+BG16+BK16<0,0,+BG16+BK16)) -> 3 | BR16: =IF(B16="","",IF(ISERROR(VLOOKUP(BO16,impa1,2,0)),"",VLOOKUP(BO16,impa1,2,0))) -> Improbable | BS16: =IF(B16="","",IF(ISERROR(VLOOKUP(BP16,prob1,2,0)),"",VLOOKUP(BP16,prob1,2,0))) -> Importante | BT16: =IF(BH16="","",CONCATENATE(D16,BS16,BR16)) -> RC2ImportanteImprobable | BU16: =+W16 -> Alto | BV16: =+BY16 -> Moderado | BW16: =IF(F16="Si",D16,"") -> RC2 | BX16: =IF(F16="Si",E16,"") -> Posibilidad de afectación económica y reputacional por demandas, sanciones por los grupos de valor por la falsificación o manipulación intencionada de la información para beneficio propio o de terceros | BY16: =IF(B16="","",IF(D16=D15,"",IF(ISERROR(VLOOKUP(CONCATENATE(BR16,BS16),ri,4,0)),"",VLOOKUP(CONCATENATE(BR16,BS16),ri,4,0)))) -> Moderado
B17: Apoyo | C17: Gestión Administrativa / Gestión TIC's | D17: RC2 | E17: Posibilidad de afectación económica y reputacional por demandas, sanciones por los grupos de valor por la falsificación o manipulación intencionada de la información para beneficio propio o de terceros | F17: Si | G17: No | H17: No | I17: Si | J17: Vincular personal no confiable en los procesos que administran y custodian la información | K17: Procedimientos asociados | Y17: C1 | AA17: Adecuadas | AC17: Preventivo | AD17: El proceso de calificación y evaluación en cada etapa (pruebas psicotécnicas, de conocimiento, entrevistas) actúa como un mecanismo para identificar si un candidato no cumple con los estándares mínimos requeridos. La detección de resultados por debajo de la mínima calificación establecida permite frenar el proceso de continuidad del candidato en etapas tempranas. | AE17: Si en alguna etapa se encuentran deficiencias en el proceso o en la evaluación, se pueden realizar ajustes (por ejemplo, reconsideración de criterios o actualización de metodologías de evaluación). La terminación del proceso de selección de un candidato que no alcanza la calificación mínima asegura que el equipo final cumpla con los estándares y las necesidades de la organización. | AF17: La validación inicial del requerimiento de personal y de los perfiles (competencias, educación, experiencia, etc.) para asegurarse de que los candidatos cumplan con los requisitos necesarios desde el inicio. La realización de pruebas psicotécnicas, de conocimiento y entrevistas previene la selección de candidatos que no cumplan con los estándares establecidos. La visita domiciliaria (en caso de cargos críticos) asegura que se realice una verificación exhaustiva, minimizando riesgos antes de la contratación | AG17: Manual | AI17: Por demanda | AJ17: Adecuado | AK17: Documentado | AL17: 1. Procedimiento selección, vinculación, induccion, evaluación, promoción personal de planta. | AM17: Completa | AN17: =IF(B17="","",IF(BF17>=76,"Fuerte",IF(BF17>=51,"Moderado","Débil"))) -> Fuerte | AO17: =IF(OR(AA17="insuficientes",AA17="No adecuadas",AJ17="Inadecuado",AK17="No documentado",AM17="Incompleta",AM17="No existe"),"Si","No") -> No | AP17: =IF(AN17="","",IF(B17="","",IF(OR(AN17="Moderado",AN17="Débil"),"Si","No"))) -> No | AR17: Fuerte | AS17: =IF(AN17="","",IF(AND(AN17="Fuerte",AR17="Fuerte"),"Fuerte",IF(AND(AN17="Fuerte",AR17="Moderado"),"Moderado",IF(AND(AN17="Fuerte",AR17="Débil"),"Débil",IF(AND(AN17="Moderado",AR17="Fuerte"),"Moderado",IF(AND(AN17="Moderado",AR17="Moderado"),"Moderado","Débil")))))) -> Fuerte | AV17: =IF(D17="","",IF(D17=D16,"",IF(D17=D16,"",VLOOKUP(D17,solcon,11,0)))) | AW17: Fuerte | AX17: Moderado | AY17: =CONCATENATE(D17,O17,L17) -> RC2 | AZ17: =IF(B17="","",IF(AA17="Adecuadas",30,IF(AA17="Insuficientes",10,0))) -> 30 | BA17: =IF(B17="","",IF(AC17="Preventivo",15,IF(AC17="Detectivo",10,IF(AC17="Correctivo",5,0)))) -> 15 | BB17: =IF(B17="","",IF(AG17="Automático",10,IF(AG17="Dependiente de T.I.",7,IF(AG17="Manual",5,0)))) -> 5 | BC17: =IF(B17="","",IF(AJ17="Adecuado",20,0)) -> 20 | BD17: =IF(B17="","",IF(AK17="Documentado",10,0)) -> 10 | BE17: =IF(B17="","",IF(AM17="Completa",15,IF(AM17="Incompleta",10,0))) -> 15 | BF17: =IF(B17="","",SUM(AZ17:BE17)) -> 95 | BJ17: =CONCATENATE(AV17,AW17,AX17) -> FuerteModerado | BK17: =IF(B17="","",VLOOKUP(BJ17,NRES,3,0)) -> #N/A | BL17: =IF(B17="","",VLOOKUP(BJ17,NRES,2,0)) -> #N/A | BO17: =IF(B17="","",IF(+BH17+BL17<0,0,+BH17+BL17)) -> #N/A | BP17: =IF(B17="","",IF(+BG17+BK17<0,0,+BG17+BK17)) -> #N/A | BR17: =IF(B17="","",IF(ISERROR(VLOOKUP(BO17,impa1,2,0)),"",VLOOKUP(BO17,impa1,2,0))) | BS17: =IF(B17="","",IF(ISERROR(VLOOKUP(BP17,prob1,2,0)),"",VLOOKUP(BP17,prob1,2,0))) | BT17: =IF(BH17="","",CONCATENATE(D17,BS17,BR17)) | BV17: =+BY17 | BW17: =IF(F17="Si",D17,"") -> RC2 | BX17: =IF(F17="Si",E17,"") -> Posibilidad de afectación económica y reputacional por demandas, sanciones por los grupos de valor por la falsificación o manipulación intencionada de la información para beneficio propio o de terceros | BY17: =IF(B17="","",IF(D17=D16,"",IF(ISERROR(VLOOKUP(CONCATENATE(BR17,BS17),ri,4,0)),"",VLOOKUP(CONCATENATE(BR17,BS17),ri,4,0))))
B18: Apoyo | C18: Gestión Administrativa / Gestión TIC's | D18: RC2 | E18: Posibilidad de afectación económica y reputacional por demandas, sanciones por los grupos de valor por la falsificación o manipulación intencionada de la información para beneficio propio o de terceros | F18: Si | G18: No | H18: No | I18: Si | J18: Salida no autorizada de documentación | K18: Procedimientos asociados | Y18: C5 | AA18: Adecuadas | AC18: Preventivo | AD18: Solicitudes No Autorizadas: Si el encargado del Archivo Central no verifica adecuadamente que la solicitud de préstamo sea efectuada por una persona autorizada (Jefe de Oficina, Coordinador de Grupo, Director o gestor del documento), puede haber un riesgo de que se presten documentos sin la debida autorización, lo que podría comprometer la integridad de la información. Errores en el Diligenciamiento del Formato: Si el formato de control de préstamo de documentos no se diligencia correctamente, puede haber información incorrecta o incompleta, lo que dificultaría el seguimiento de los documentos prestados. Si el encargado no verifica adecuadamente que el documento devuelto coincida con el entregado, puede haber confusiones sobre el estado de los documentos y posibles pérdidas. | AE18: Retrasos en la Devolución de Documentos: Si el encargado del Archivo Central no realiza un seguimiento adecuado a los documentos prestados, puede haber retrasos en la devolución, afectando la disponibilidad de información para otros usuarios. Falta de Acciones ante Incidencias: Si se identifican problemas relacionados con el préstamo de documentos (como solicitudes no autorizadas o documentos no devueltos) y no se toman acciones correctivas, puede haber una repetición de los mismos problemas en el futuro. Inadecuada Comunicación sobre Problemas: Si no se comunica adecuadamente cualquier incidente relacionado con el préstamo de documentos, puede haber malentendidos que compliquen la resolución de problemas. | AF18: Falta de Protocolo para el Préstamo de Documentos: Si no se establece un protocolo claro para la solicitud y préstamo de documentos, puede haber inconsistencias en la aplicación de los procedimientos, aumentando el riesgo de errores. Insuficiente Capacitación del Personal: Si el encargado del Archivo Central no está adecuadamente capacitado en los procedimientos de préstamo y control de documentos, puede no realizar correctamente su trabajo, lo que podría comprometer la gestión de la documentación. Comunicación Deficiente sobre Responsabilidades: Si no hay una buena comunicación sobre las responsabilidades del encargado del Archivo Central y otros colaboradores, puede haber confusiones que afecten la gestión del préstamo de documentos. | AG18: Manual | AI18: Por demanda | AJ18: Adecuado | AK18: Documentado | AL18: Instructivo de gestión documental | AM18: Completa | AN18: =IF(B18="","",IF(BF18>=76,"Fuerte",IF(BF18>=51,"Moderado","Débil"))) -> Fuerte | AO18: =IF(OR(AA18="insuficientes",AA18="No adecuadas",AJ18="Inadecuado",AK18="No documentado",AM18="Incompleta",AM18="No existe"),"Si","No") -> No | AP18: =IF(AN18="","",IF(B18="","",IF(OR(AN18="Moderado",AN18="Débil"),"Si","No"))) -> No | AR18: Fuerte | AS18: =IF(AN18="","",IF(AND(AN18="Fuerte",AR18="Fuerte"),"Fuerte",IF(AND(AN18="Fuerte",AR18="Moderado"),"Moderado",IF(AND(AN18="Fuerte",AR18="Débil"),"Débil",IF(AND(AN18="Moderado",AR18="Fuerte"),"Moderado",IF(AND(AN18="Moderado",AR18="Moderado"),"Moderado","Débil")))))) -> Fuerte | AW18: Fuerte | AX18: Fuerte | AY18: =CONCATENATE(D18,O18,L18) -> RC2 | AZ18: =IF(B18="","",IF(AA18="Adecuadas",30,IF(AA18="Insuficientes",10,0))) -> 30 | BA18: =IF(B18="","",IF(AC18="Preventivo",15,IF(AC18="Detectivo",10,IF(AC18="Correctivo",5,0)))) -> 15 | BB18: =IF(B18="","",IF(AG18="Automático",10,IF(AG18="Dependiente de T.I.",7,IF(AG18="Manual",5,0)))) -> 5 | BC18: =IF(B18="","",IF(AJ18="Adecuado",20,0)) -> 20 | BD18: =IF(B18="","",IF(AK18="Documentado",10,0)) -> 10 | BE18: =IF(B18="","",IF(AM18="Completa",15,IF(AM18="Incompleta",10,0))) -> 15 | BF18: =IF(B18="","",SUM(AZ18:BE18)) -> 95 | BG18: =IF(B18="","",IF(ISERROR(VLOOKUP(O18,calprob,2,0)),"",VLOOKUP(O18,calprob,2,0))) | BH18: =IF(B18="","",IF(ISERROR(VLOOKUP(L18,calimp,2,0)),"",VLOOKUP(L18,calimp,2,0))) | BI18: =IF(BH18="","",+BH18*BG18) | BJ18: =CONCATENATE(AV18,AW18,AX18) -> FuerteFuerte | BK18: =IF(B18="","",VLOOKUP(BJ18,NRES,3,0)) -> #N/A | BL18: =IF(B18="","",VLOOKUP(BJ18,NRES,2,0)) -> #N/A | BM18: =(IF(ISERROR(VLOOKUP(CONCATENATE(AV18,AW18,AX18),residual,2,0)),"",VLOOKUP(CONCATENATE(AV18,AW18,AX18),residual,2,0))) | BN18: =IF(ISERROR(VLOOKUP(CONCATENATE(AV18,AW18,AX18),residual,3,0)),"",VLOOKUP(CONCATENATE(AV18,AW18,AX18),residual,3,0)) | BO18: =IF(B18="","",IF(+BH18+BL18<0,0,+BH18+BL18)) -> #VALUE! | BP18: =IF(B18="","",IF(+BG18+BK18<0,0,+BG18+BK18)) -> #VALUE! | BR18: =IF(B18="","",IF(ISERROR(VLOOKUP(BO18,impa1,2,0)),"",VLOOKUP(BO18,impa1,2,0))) | BS18: =IF(B18="","",IF(ISERROR(VLOOKUP(BP18,prob1,2,0)),"",VLOOKUP(BP18,prob1,2,0))) | BT18: =IF(BH18="","",CONCATENATE(D18,BS18,BR18)) | BV18: =+BY18 | BW18: =IF(F18="Si",D18,"") -> RC2 | BX18: =IF(F18="Si",E18,"") -> Posibilidad de afectación económica y reputacional por demandas, sanciones por los grupos de valor por la falsificación o manipulación intencionada de la información para beneficio propio o de terceros | BY18: =IF(B18="","",IF(D18=D17,"",IF(ISERROR(VLOOKUP(CONCATENATE(BR18,BS18),ri,4,0)),"",VLOOKUP(CONCATENATE(BR18,BS18),ri,4,0))))
B19: Apoyo | C19: Gestión Administrativa / Gestión TIC's | D19: RC2 | E19: Posibilidad de afectación económica y reputacional por demandas, sanciones por los grupos de valor por la falsificación o manipulación intencionada de la información para beneficio propio o de terceros | F19: Si | G19: No | H19: No | I19: Si | J19: Inadecuada asignación de accesos y permisos sobre los sistemas y recursos de información. | K19: Procedimientos asociados | Y19: C7.9 | AA19: Adecuadas | AC19: Preventivo | AD19: La revisión por parte del personal del grupo SAP para asegurar que la información en el ticket y el Formato OJT esté completa permite detectar si falta algún dato crucial antes de otorgar el acceso. | AE19: Si el personal del grupo SAP identifica que la información en el ticket o el Formato OJT está incompleta, la acción de solicitar la información faltante al solicitante o al líder funcional sería un control correctivo para asegurar que se cumplan los requisitos antes de la asignación de accesos. | AF19: Requerir la autorización del líder funcional para la asignación de acceso y nuevas transacciones en SAP asegura que los permisos otorgados sean consistentes con las responsabilidades y necesidades del cargo del nuevo usuario. Esto previene accesos indebidos o innecesarios. La exigencia del Formato OJT con información específica (roles, datos de identificación, contacto, cargo, dependencia) asegura que se recopile la información necesaria para una correcta asignación de accesos y para la trazabilidad de los permisos; la comprobación de la disponibilidad de licencias por parte del grupo SAP antes de la asignación previene problemas de acceso por falta de licencias y asegura el cumplimiento de los términos de licenciamiento del ERP. | AG19: Dependiente de T.I. | AI19: Por demanda | AJ19: Adecuado | AK19: Documentado | AL19: 1. Administración de licencias y usuarios SAP (ERP, SUCESSFACTORS Y PAYROLL) | AM19: Completa | AN19: =IF(B19="","",IF(BF19>=76,"Fuerte",IF(BF19>=51,"Moderado","Débil"))) -> Fuerte | AO19: =IF(OR(AA19="insuficientes",AA19="No adecuadas",AJ19="Inadecuado",AK19="No documentado",AM19="Incompleta",AM19="No existe"),"Si","No") -> No | AP19: =IF(AN19="","",IF(B19="","",IF(OR(AN19="Moderado",AN19="Débil"),"Si","No"))) -> No | AR19: Fuerte | AS19: =IF(AN19="","",IF(AND(AN19="Fuerte",AR19="Fuerte"),"Fuerte",IF(AND(AN19="Fuerte",AR19="Moderado"),"Moderado",IF(AND(AN19="Fuerte",AR19="Débil"),"Débil",IF(AND(AN19="Moderado",AR19="Fuerte"),"Moderado",IF(AND(AN19="Moderado",AR19="Moderado"),"Moderado","Débil")))))) -> Fuerte | AW19: Fuerte | AX19: Fuerte | AY19: =CONCATENATE(D19,O19,L19) -> RC2 | AZ19: =IF(B19="","",IF(AA19="Adecuadas",30,IF(AA19="Insuficientes",10,0))) -> 30 | BA19: =IF(B19="","",IF(AC19="Preventivo",15,IF(AC19="Detectivo",10,IF(AC19="Correctivo",5,0)))) -> 15 | BB19: =IF(B19="","",IF(AG19="Automático",10,IF(AG19="Dependiente de T.I.",7,IF(AG19="Manual",5,0)))) -> 7 | BC19: =IF(B19="","",IF(AJ19="Adecuado",20,0)) -> 20 | BD19: =IF(B19="","",IF(AK19="Documentado",10,0)) -> 10 | BE19: =IF(B19="","",IF(AM19="Completa",15,IF(AM19="Incompleta",10,0))) -> 15 | BF19: =IF(B19="","",SUM(AZ19:BE19)) -> 97 | BG19: =IF(B19="","",IF(ISERROR(VLOOKUP(O19,calprob,2,0)),"",VLOOKUP(O19,calprob,2,0))) | BH19: =IF(B19="","",IF(ISERROR(VLOOKUP(L19,calimp,2,0)),"",VLOOKUP(L19,calimp,2,0))) | BI19: =IF(BH19="","",+BH19*BG19) | BJ19: =CONCATENATE(AV19,AW19,AX19) -> FuerteFuerte | BK19: =IF(B19="","",VLOOKUP(BJ19,NRES,3,0)) -> #N/A | BL19: =IF(B19="","",VLOOKUP(BJ19,NRES,2,0)) -> #N/A | BM19: =(IF(ISERROR(VLOOKUP(CONCATENATE(AV19,AW19,AX19),residual,2,0)),"",VLOOKUP(CONCATENATE(AV19,AW19,AX19),residual,2,0))) | BN19: =IF(ISERROR(VLOOKUP(CONCATENATE(AV19,AW19,AX19),residual,3,0)),"",VLOOKUP(CONCATENATE(AV19,AW19,AX19),residual,3,0)) | BO19: =IF(B19="","",IF(+BH19+BL19<0,0,+BH19+BL19)) -> #VALUE! | BP19: =IF(B19="","",IF(+BG19+BK19<0,0,+BG19+BK19)) -> #VALUE! | BR19: =IF(B19="","",IF(ISERROR(VLOOKUP(BO19,impa1,2,0)),"",VLOOKUP(BO19,impa1,2,0))) | BS19: =IF(B19="","",IF(ISERROR(VLOOKUP(BP19,prob1,2,0)),"",VLOOKUP(BP19,prob1,2,0))) | BT19: =IF(BH19="","",CONCATENATE(D19,BS19,BR19)) | BV19: =+BY19 | BW19: =IF(F19="Si",D19,"") -> RC2 | BX19: =IF(F19="Si",E19,"") -> Posibilidad de afectación económica y reputacional por demandas, sanciones por los grupos de valor por la falsificación o manipulación intencionada de la información para beneficio propio o de terceros | BY19: =IF(B19="","",IF(D19=D18,"",IF(ISERROR(VLOOKUP(CONCATENATE(BR19,BS19),ri,4,0)),"",VLOOKUP(CONCATENATE(BR19,BS19),ri,4,0))))
B20: Apoyo | C20: Gestión Administrativa / Gestión TIC's | D20: RC2 | E20: Posibilidad de afectación económica y reputacional por demandas, sanciones por los grupos de valor por la falsificación o manipulación intencionada de la información para beneficio propio o de terceros | F20: Si | G20: No | H20: No | I20: Si | J20: Accesos a los servicios tecnológicos de personal que haya terminado relación contractual con la Corporación | K20: Procedimientos asociados | Y20: C7.10 | AA20: Adecuadas | AC20: Preventivo | AD20: El Grupo de TIC's al recibir el ticket detecta la necesidad de inactivar los accesos del colaborador. La trazabilidad del ticket permite monitorear que se cumpla con la inactivación. | AE20: Inactivación de usuarios y bloqueo de contraseñas por el Grupo de TIC’s, buscando con ésta acción corregir la situación de un ex-colaborador que aún podría tener acceso a los recursos tecnológicos de la Corporación, eliminando dicho acceso. Respuesta al ticket para trazabilidad, confirmando la acción de inactivación en el ticket permite tener un registro de que la medida correctiva se ha implementado. | AF20: Exigir que el colaborador genere un ticket detallando la terminación del contrato, con lo cual se busca formalizar la solicitud de inactivación de accesos y asegurar que se inicie el proceso correspondiente por parte del Grupo de TIC's. Condicionamiento de la firma del informe final a la evidencia del ticket:, genra el hecho de que las áreas que avalan el informe final de relación contractual no emitan su firma hasta que se evidencie el número del ticket de terminación de contrato actúa como una medida preventiva para asegurar que se inicie el proceso de revocación de accesos tecnológicos al momento de la finalización del vínculo laboral. | AG20: Dependiente de T.I. | AI20: Por demanda | AJ20: Adecuado | AK20: Documentado | AL20: 1. Manual de Seguridad y Privacidad de la Información | AM20: Completa | AN20: =IF(B20="","",IF(BF20>=76,"Fuerte",IF(BF20>=51,"Moderado","Débil"))) -> Fuerte | AO20: =IF(OR(AA20="insuficientes",AA20="No adecuadas",AJ20="Inadecuado",AK20="No documentado",AM20="Incompleta",AM20="No existe"),"Si","No") -> No | AP20: =IF(AN20="","",IF(B20="","",IF(OR(AN20="Moderado",AN20="Débil"),"Si","No"))) -> No | AR20: Moderado | AS20: =IF(AN20="","",IF(AND(AN20="Fuerte",AR20="Fuerte"),"Fuerte",IF(AND(AN20="Fuerte",AR20="Moderado"),"Moderado",IF(AND(AN20="Fuerte",AR20="Débil"),"Débil",IF(AND(AN20="Moderado",AR20="Fuerte"),"Moderado",IF(AND(AN20="Moderado",AR20="Moderado"),"Moderado","Débil")))))) -> Moderado | AW20: Fuerte | AX20: Fuerte | AY20: =CONCATENATE(D20,O20,L20) -> RC2 | AZ20: =IF(B20="","",IF(AA20="Adecuadas",30,IF(AA20="Insuficientes",10,0))) -> 30 | BA20: =IF(B20="","",IF(AC20="Preventivo",15,IF(AC20="Detectivo",10,IF(AC20="Correctivo",5,0)))) -> 15 | BB20: =IF(B20="","",IF(AG20="Automático",10,IF(AG20="Dependiente de T.I.",7,IF(AG20="Manual",5,0)))) -> 7 | BC20: =IF(B20="","",IF(AJ20="Adecuado",20,0)) -> 20 | BD20: =IF(B20="","",IF(AK20="Documentado",10,0)) -> 10 | BE20: =IF(B20="","",IF(AM20="Completa",15,IF(AM20="Incompleta",10,0))) -> 15 | BF20: =IF(B20="","",SUM(AZ20:BE20)) -> 97 | BG20: =IF(B20="","",IF(ISERROR(VLOOKUP(O20,calprob,2,0)),"",VLOOKUP(O20,calprob,2,0))) | BH20: =IF(B20="","",IF(ISERROR(VLOOKUP(L20,calimp,2,0)),"",VLOOKUP(L20,calimp,2,0))) | BI20: =IF(BH20="","",+BH20*BG20) | BJ20: =CONCATENATE(AV20,AW20,AX20) -> FuerteFuerte | BK20: =IF(B20="","",VLOOKUP(BJ20,NRES,3,0)) -> #N/A | BL20: =IF(B20="","",VLOOKUP(BJ20,NRES,2,0)) -> #N/A | BM20: =(IF(ISERROR(VLOOKUP(CONCATENATE(AV20,AW20,AX20),residual,2,0)),"",VLOOKUP(CONCATENATE(AV20,AW20,AX20),residual,2,0))) | BN20: =IF(ISERROR(VLOOKUP(CONCATENATE(AV20,AW20,AX20),residual,3,0)),"",VLOOKUP(CONCATENATE(AV20,AW20,AX20),residual,3,0)) | BO20: =IF(B20="","",IF(+BH20+BL20<0,0,+BH20+BL20)) -> #VALUE! | BP20: =IF(B20="","",IF(+BG20+BK20<0,0,+BG20+BK20)) -> #VALUE! | BR20: =IF(B20="","",IF(ISERROR(VLOOKUP(BO20,impa1,2,0)),"",VLOOKUP(BO20,impa1,2,0))) | BS20: =IF(B20="","",IF(ISERROR(VLOOKUP(BP20,prob1,2,0)),"",VLOOKUP(BP20,prob1,2,0))) | BT20: =IF(BH20="","",CONCATENATE(D20,BS20,BR20)) | BV20: =+BY20 | BW20: =IF(F20="Si",D20,"") -> RC2 | BX20: =IF(F20="Si",E20,"") -> Posibilidad de afectación económica y reputacional por demandas, sanciones por los grupos de valor por la falsificación o manipulación intencionada de la información para beneficio propio o de terceros | BY20: =IF(B20="","",IF(D20=D19,"",IF(ISERROR(VLOOKUP(CONCATENATE(BR20,BS20),ri,4,0)),"",VLOOKUP(CONCATENATE(BR20,BS20),ri,4,0))))
